BEGIN:VCALENDAR
VERSION:2.0
PRODID:-//ChamberMaster//Event Calendar 2.0//EN
METHOD:PUBLISH
X-PUBLISHED-TTL:P3D
REFRESH-INTERVAL:P3D
CALSCALE:GREGORIAN
BEGIN:VEVENT
DTSTART;VALUE=DATE:20130518
DTEND;VALUE=DATE:20130519
TRANSP:TRANSPARENT
X-MICROSOFT-CDO-ALLDAYEVENT:TRUE
SUMMARY:The Colorpalooza
DESCRIPTION:Run for charity and have fun while you're doing it!  Proceeds benefit the Washington County School District Foundation\, Healthy Dixie Council\, Dixie State University\, Intermountain LiVe Well Center\, City of St. George\, and the St. George Area Chamber of Commerce.
X-ALT-DESC;FMTTYPE=text/html:Run for charity and have fun while you&#39\;re doing it!&nbsp\; Proceeds benefit the Washington County School District Foundation\, Healthy Dixie Council\, Dixie State University\, Intermountain LiVe Well Center\, City of St. George\, and the St. George Area Chamber of Commerce.
LOCATION:Race begins at Dixie State University Hansen Stadium and ends at the Encampment Mall.
UID:e.1117.2671
SEQUENCE:3
DTSTAMP:20260422T041558Z
URL:https://business.stgeorgechamber.com/events/details/the-colorpalooza-05-18-2013-2671
END:VEVENT

END:VCALENDAR
