BEGIN:VCALENDAR
VERSION:2.0
PRODID:-//ChamberMaster//Event Calendar 2.0//EN
METHOD:PUBLISH
X-PUBLISHED-TTL:P3D
REFRESH-INTERVAL:P3D
CALSCALE:GREGORIAN
BEGIN:VEVENT
DTSTART:20150322T013000Z
DTEND:20150322T040000Z
X-MICROSOFT-CDO-ALLDAYEVENT:FALSE
SUMMARY:The Bretts in Concert at Tuacahn
DESCRIPTION:The Bretts Show is not your average family variety show. With a dizzying array of awards and accomplishments over their 16-year Branson career\, this dynamic family produces a power-packed\, two-hour entertainment experience that combines the best in music\, lighting\, video\, dance\, comedy and genuine artistry. The Bretts Show mixes timeless classics\, current chart-topping hits and award-winning original music\, all presented with The Bretts' signature polish and professionalism. The Bretts Show proudly features Branson's #1 Patriotic Tribute and also includes a host of fun surprises for the entire family\, like the Brett Brothers' high-tech Tron Basketball routine.\n\n As singers\, songwriters\, dancers and musicians\, each member of this family has the star-power to deliver a full-length solo performance\, but when their talents combine in The Bretts Show\, it creates a truly captivating experience that continues to prove that family entertainment can be the best in entertainment.
X-ALT-DESC;FMTTYPE=text/html:The Bretts Show is not your average family variety show. With a dizzying array of awards and accomplishments over their 16-year Branson career\, this dynamic family produces a power-packed\, two-hour entertainment experience that combines the best in music\, lighting\, video\, dance\, comedy and genuine artistry. The Bretts Show mixes timeless classics\, current chart-topping hits and award-winning original music\, all presented with The Bretts&rsquo\; signature polish and professionalism. The Bretts Show proudly features Branson&rsquo\;s #1 Patriotic Tribute and also includes a host of fun surprises for the entire family\, like the Brett Brothers&rsquo\; high-tech Tron Basketball routine.<br />\n&nbsp\;As singers\, songwriters\, dancers and musicians\, each member of this family has the star-power to deliver a full-length solo performance\, but when their talents combine in The Bretts Show\, it creates a truly captivating experience that continues to prove that family entertainment can be the best in entertainment.&nbsp\;&nbsp\;
LOCATION:Tuacahn Amphitheater 1100 Tuacahn Drive Ivins\, Utah
UID:e.1117.6311
SEQUENCE:3
DTSTAMP:20260420T191012Z
URL:https://business.stgeorgechamber.com/events/details/the-bretts-in-concert-at-tuacahn-03-21-2015-6311
END:VEVENT

END:VCALENDAR
