BEGIN:VCALENDAR
VERSION:2.0
PRODID:-//ChamberMaster//Event Calendar 2.0//EN
METHOD:PUBLISH
X-PUBLISHED-TTL:P3D
REFRESH-INTERVAL:P3D
CALSCALE:GREGORIAN
BEGIN:VEVENT
DTSTART:20141108T160000Z
DTEND:20141108T210000Z
X-MICROSOFT-CDO-ALLDAYEVENT:FALSE
SUMMARY:The Big Barn Party
DESCRIPTION:Come take a ride in our RE/MAX Balloon. All Donations will go the The Big Brother Big Sisters Organization. Have fun hand painting the horses\, food\, music\, lots of fun.  Most events at $1.  Held at Cox Farm on Riverside Dr. Just look for the Balloon!!!
X-ALT-DESC;FMTTYPE=text/html:Come take a ride in our RE/MAX Balloon. All Donations will go the The Big Brother Big Sisters Organization. Have fun hand painting the horses\, food\, music\, lots of fun. &nbsp\;Most events at $1. &nbsp\;Held at Cox Farm on Riverside Dr. Just look for the Balloon!!!
LOCATION:Cox Farm 900 East Riverside Dr. St. George\, UT
UID:e.1117.6182
SEQUENCE:3
DTSTAMP:20260421T010656Z
URL:https://business.stgeorgechamber.com/events/details/the-big-barn-party-11-08-2014-6182
END:VEVENT

END:VCALENDAR
