BEGIN:VCALENDAR
VERSION:2.0
PRODID:-//ChamberMaster//Event Calendar 2.0//EN
METHOD:PUBLISH
X-PUBLISHED-TTL:P3D
REFRESH-INTERVAL:P3D
CALSCALE:GREGORIAN
BEGIN:VEVENT
DTSTART:20140510T020000Z
DTEND:20140510T040000Z
X-MICROSOFT-CDO-ALLDAYEVENT:FALSE
SUMMARY:The Beach Boys in Concert
DESCRIPTION:You can capsulate most pop music acts by reciting how many hits they've had and how many millions of albums they've sold. But these conventional measurements fall short when you're assessing the impact of The Beach Boys. To be sure\, this band has birthed a torrent of hit singles and sold albums by the tens of millions. But its greater significance lies in the fact that it changed the musical landscape so profoundly that every pop act since has been in its debt.\n\nEven more than the Beatles\, The Beach Boys found through their music the key to unfading youth-and they made copies for everyone. To these guys\, the beach isn't just a place where the surf comes to play-it's where life is renewed and made whole again.\n\nFew\, if any\, acts can match The Beach Boys' concert presence\, spirit and performance. They were center-stage at Live Aid\, multiple Farm Aids\, the Statue of Liberty's 100th Anniversary Salute\, the Super Bowl and the White House. On one day alone-July 4\, 1985-they played to nearly 2 million fans at shows in Philadelphia and Washington\, D. C.\n\nIn addition to founding Beach Boy Mike Love (lead vocals) and Beach Boy-vet Bruce Johnston (vocals/keyboards) --Christian Love (guitar/vocals)\, Randell Kirsch (bass/vocals)\, Tim Bonhomme (keyboards/vocals)\, John Cowsill of The Cowsills (percussion /vocals) and Scott Totten (guitar/vocals) round out the band.
X-ALT-DESC;FMTTYPE=text/html:<p>You can capsulate most pop music acts by reciting how many hits they&#39\;ve had and how many millions of albums they&#39\;ve sold. But these conventional measurements fall short when you&#39\;re assessing the impact of The Beach Boys. To be sure\, this band has birthed a torrent of hit singles and sold albums by the tens of millions. But its greater significance lies in the fact that it changed the musical landscape so profoundly that every pop act since has been in its debt.</p>\n\n<p>Even more than the Beatles\, The Beach Boys found through their music the key to unfading youth-and they made copies for everyone. To these guys\, the beach isn&#39\;t just a place where the surf comes to play-it&#39\;s where life is renewed and made whole again.</p>\n\n<p>Few\, if any\, acts can match The Beach Boys&#39\; concert presence\, spirit and performance. They were center-stage at Live Aid\, multiple Farm Aids\, the Statue of Liberty&#39\;s 100th Anniversary Salute\, the Super Bowl and the White House. On one day alone-July 4\, 1985-they played to nearly 2 million fans at shows in Philadelphia and Washington\, D. C.</p>\n\n<p>In addition to founding Beach Boy Mike Love (lead vocals) and Beach Boy-vet Bruce Johnston (vocals/keyboards) --Christian Love (guitar/vocals)\, Randell Kirsch (bass/vocals)\, Tim Bonhomme (keyboards/vocals)\, John Cowsill of The Cowsills (percussion /vocals) and Scott Totten (guitar/vocals) round out the band.</p>\n
LOCATION:Tuacahn Amphitheater 1100 Tuacahn Drive Ivins
UID:e.1117.5201
SEQUENCE:3
DTSTAMP:20260421T112447Z
URL:https://business.stgeorgechamber.com/events/details/the-beach-boys-in-concert-05-09-2014-5201
END:VEVENT

END:VCALENDAR
