BEGIN:VCALENDAR
VERSION:2.0
PRODID:-//ChamberMaster//Event Calendar 2.0//EN
METHOD:PUBLISH
X-PUBLISHED-TTL:P3D
REFRESH-INTERVAL:P3D
CALSCALE:GREGORIAN
BEGIN:VEVENT
DTSTART:20160429T020000Z
DTEND:20160430T040000Z
X-MICROSOFT-CDO-ALLDAYEVENT:FALSE
SUMMARY:The Beach Boys in Concert
DESCRIPTION:You can capsulize most pop music acts by reciting how many hits they've had and how many millions of albums they've sold.  But these conventional measurements fall short when you're assessing the impact of The Beach Boys.  To be sure\, this band has birthed a torrent of hit singles and sold albums by the tens of millions.  But its greater significance lies in the fact that it changed the musical landscape so profoundly that every pop act since has been in its debt.\n\nHappily for us all\, The Beach Boys continue to create and perform with the same bold imagination and style that marked their explosive debut over 50 years ago. And now in 2013\, their Capitol Records release\, Sounds of Summer (RIAA certified triple platinum with over three million in sales and climbing)\, and it's companion The Warmth of the Sun marks a resurgence in Beach Boys interest that has again rocked the world.
X-ALT-DESC;FMTTYPE=text/html:<p>You can capsulize most pop music acts by reciting how many hits they&rsquo\;ve had and how many millions of albums they&rsquo\;ve sold.&nbsp\; But these conventional measurements fall short when you&rsquo\;re assessing the impact of The Beach Boys.&nbsp\; To be sure\, this band has birthed a torrent of hit singles and sold albums by the tens of millions.&nbsp\; But its greater significance lies in the fact that it changed the musical landscape so profoundly that every pop act since has been in its debt.<br />\nHappily for us all\, The Beach Boys continue to create and perform with the same bold imagination and style that marked their explosive debut over 50 years ago. And now in 2013\, their Capitol Records release\, Sounds of Summer (RIAA certified triple platinum with over three million in sales and climbing)\, and it&rsquo\;s companion The Warmth of the Sun marks a resurgence in Beach Boys interest that has again rocked the world.</p>\n
LOCATION:Tuacahn Amphitheater 1100 Tuacahn Drive Ivins
UID:e.1117.8500
SEQUENCE:3
DTSTAMP:20260419T201539Z
URL:https://business.stgeorgechamber.com/events/details/the-beach-boys-in-concert-04-28-2016-8500
END:VEVENT

END:VCALENDAR
