BEGIN:VCALENDAR
VERSION:2.0
PRODID:-//ChamberMaster//Event Calendar 2.0//EN
METHOD:PUBLISH
X-PUBLISHED-TTL:P3D
REFRESH-INTERVAL:P3D
CALSCALE:GREGORIAN
BEGIN:VEVENT
DTSTART:20160130T020000Z
DTEND:20160130T040000Z
X-MICROSOFT-CDO-ALLDAYEVENT:FALSE
SUMMARY:"The 39 Steps" at Brigham's Playhouse
DESCRIPTION:Alfred Hitchcock's\, "The 39 Steps"\, is a comedy that is done by only 4 actors that play multiple characters! It's all about a man named Richard Hannay\, who\, becomes entangled in the web of a mysterious spy group called\, "The 39 Steps" when an agent is murdered in his apartment. After this event\, he must avoid the police\, who accuse him of the murder\, while he attempts to stop the alleged "39 Steps"\, from sending top secret information out of the country. In his journey\, Hannay is joined by a woman named Pamela\, who becomes his accomplice\, unwillingly at first\, until she discovers his innocence\, and agrees to assist.
X-ALT-DESC;FMTTYPE=text/html:Alfred Hitchcock&rsquo\;s\, &quot\;The 39 Steps&quot\;\, is a comedy that is done by only 4 actors that play multiple characters! It&rsquo\;s all about a man named Richard Hannay\, who\, becomes entangled in the web of a mysterious spy group called\, &ldquo\;The 39 Steps&rdquo\; when an agent is murdered in his apartment. After this event\, he must avoid the police\, who accuse him of the murder\, while he attempts to stop the alleged &ldquo\;39 Steps&rdquo\;\, from sending top secret information out of the country. In his journey\, Hannay is joined by a woman named Pamela\, who becomes his accomplice\, unwillingly at first\, until she discovers his innocence\, and agrees to assist.
LOCATION:Brigham's Playhouse 25 N. 300 W. Washington\, UT. In the CottonTown Village across from the street from Riggatti's Pizza.
UID:e.1117.8412
SEQUENCE:3
DTSTAMP:20260420T012921Z
URL:https://business.stgeorgechamber.com/events/details/the-39-steps-at-brigham-s-playhouse-01-29-2016-8412
END:VEVENT

END:VCALENDAR
