BEGIN:VCALENDAR
VERSION:2.0
PRODID:-//ChamberMaster//Event Calendar 2.0//EN
METHOD:PUBLISH
X-PUBLISHED-TTL:P3D
REFRESH-INTERVAL:P3D
CALSCALE:GREGORIAN
BEGIN:VEVENT
DTSTART:20150220T023000Z
DTEND:20150220T043000Z
X-MICROSOFT-CDO-ALLDAYEVENT:FALSE
SUMMARY:Texas Tenors
DESCRIPTION:Over 100 million people from around the world tuned into NBC's "America's Got Talent" in 2009 to see the Texas Tenors become the highest-ranking vocal group in the history of the show. John Hagen\, Marcus Collins & JC Fisher bring their unique blend of breathtaking vocals\, humor\, & cowboy charm to the stage as they perform country\, gospel\, classical and Broadway favorites.
X-ALT-DESC;FMTTYPE=text/html:Over 100 million people from around the world tuned into NBC&#39\;s &quot\;America&#39\;s Got Talent&quot\; in 2009 to see the Texas Tenors become the highest-ranking vocal group in the history of the show. John Hagen\, Marcus Collins &amp\; JC Fisher bring their unique blend of breathtaking vocals\, humor\, &amp\; cowboy charm to the stage as they perform country\, gospel\, classical and Broadway favorites.
LOCATION:Cox Performing Arts Center 385 South University Avenue
UID:e.1117.6211
SEQUENCE:3
DTSTAMP:20260420T214923Z
URL:https://business.stgeorgechamber.com/events/details/texas-tenors-02-19-2015-6211
END:VEVENT

END:VCALENDAR
