BEGIN:VCALENDAR
VERSION:2.0
PRODID:-//ChamberMaster//Event Calendar 2.0//EN
METHOD:PUBLISH
X-PUBLISHED-TTL:P3D
REFRESH-INTERVAL:P3D
CALSCALE:GREGORIAN
BEGIN:VEVENT
DTSTART;VALUE=DATE:20150829
DTEND;VALUE=DATE:20150830
TRANSP:TRANSPARENT
X-MICROSOFT-CDO-ALLDAYEVENT:TRUE
SUMMARY:Tee'd Off About Hunger Golf Tournament
DESCRIPTION:Hurricane Valley Chamber of Commerce is graciously donating funds raised to support Utah Food Bank programs\, operations\, outreach\, education and advocacy efforts.\n\n\n\nGet your daily dose of irons....and a lot of greens!
X-ALT-DESC;FMTTYPE=text/html:Hurricane Valley Chamber of Commerce is graciously donating funds raised to support Utah Food Bank programs\, operations\, outreach\, education and advocacy efforts.<br />\n<br />\nGet your daily dose of irons....and a lot of greens!
LOCATION:Sky Mountain Golf Course Hurricane
UID:e.1117.7044
SEQUENCE:3
DTSTAMP:20260420T115947Z
URL:https://business.stgeorgechamber.com/events/details/tee-d-off-about-hunger-golf-tournament-08-29-2015-7044
END:VEVENT

END:VCALENDAR
