BEGIN:VCALENDAR
VERSION:2.0
PRODID:-//ChamberMaster//Event Calendar 2.0//EN
METHOD:PUBLISH
X-PUBLISHED-TTL:P3D
REFRESH-INTERVAL:P3D
CALSCALE:GREGORIAN
BEGIN:VEVENT
DTSTART:20131114T203000Z
DTEND:20131114T220000Z
X-MICROSOFT-CDO-ALLDAYEVENT:FALSE
SUMMARY:Tea and Generosity
DESCRIPTION:A Holiday tea and fashion show by Dillard's to support Operation School Bell.  Opportunity drawings and silent auction.
X-ALT-DESC;FMTTYPE=text/html:A Holiday tea and fashion show by Dillard&#39\;s to support Operation School Bell. &nbsp\;Opportunity drawings and silent auction.
LOCATION:Bell Tower 1368 E. 100 S.
UID:e.1117.4325
SEQUENCE:3
DTSTAMP:20260421T194440Z
URL:https://business.stgeorgechamber.com/events/details/tea-and-generosity-11-14-2013-4325
END:VEVENT

END:VCALENDAR
