BEGIN:VCALENDAR
VERSION:2.0
PRODID:-//ChamberMaster//Event Calendar 2.0//EN
METHOD:PUBLISH
X-PUBLISHED-TTL:P3D
REFRESH-INTERVAL:P3D
CALSCALE:GREGORIAN
BEGIN:VEVENT
DTSTART:20151005T230000Z
DTEND:20151006T020000Z
X-MICROSOFT-CDO-ALLDAYEVENT:FALSE
SUMMARY:Taste of Washington City
DESCRIPTION:A showcase of local business and city services.\n\n\n\n*City Services Exhibits and Business Vendors\n\n*Public Power and Fire Prevention Exhibits\n\n*Swimming\n\n*Water Walker Balls\n\n*Rock Wall Climbing\n\n*Shelter Pet Adoption\n\n*Games and Activities\n\n*Prize Giveaways and More!\n\n\n\nFood!  Fun!  Local!
X-ALT-DESC;FMTTYPE=text/html:A showcase of local business and city services.<br>\n<br>\n*City Services Exhibits and Business Vendors<br>\n*Public Power and Fire Prevention Exhibits<br>\n*Swimming<br>\n*Water Walker Balls<br>\n*Rock Wall Climbing<br>\n*Shelter Pet Adoption<br>\n*Games and Activities<br>\n*Prize Giveaways and More!<br>\n<br>\nFood! &nbsp\;Fun! &nbsp\;Local! &nbsp\;
LOCATION:Washington City Community Center 350 N. Community Center Drive St. George\, UT
UID:e.1117.7228
SEQUENCE:3
DTSTAMP:20260420T065350Z
URL:https://business.stgeorgechamber.com/events/details/taste-of-washington-city-10-05-2015-7228
END:VEVENT

END:VCALENDAR
