BEGIN:VCALENDAR
VERSION:2.0
PRODID:-//ChamberMaster//Event Calendar 2.0//EN
METHOD:PUBLISH
X-PUBLISHED-TTL:P3D
REFRESH-INTERVAL:P3D
CALSCALE:GREGORIAN
BEGIN:VEVENT
DTSTART:20130525T000000Z
DTEND:20130525T050000Z
X-MICROSOFT-CDO-ALLDAYEVENT:FALSE
SUMMARY:Sunset on the Square - Summer Movie Series
DESCRIPTION:Looking for something to do with your family on Friday night? The 2nd and 4th Friday of each Month\, May 2 through August\, the City of St. George and Write It Up! will turn Town Square into an outdoor theater. This weeks movie is Napoleon Dynamite with the Country Showdown to be held right before the event from 6 - 7:30.\n\n	Bring your blankets and lawn chairs and enjoy family films beginning at dusk. With food\, games\, prizes and fun for everyone\, you'll want to be at every one! Avg. attendance is+/- 2000 per night or more\, making Sunset on the Square the perfect opportunity to promote your business as a vendor or Sponsor - or just to have fun!
X-ALT-DESC;FMTTYPE=text/html:<p class="MsoNormal" style="margin: 0in 0in 0pt\;">\n	<font color="#000000"><font face="Calibri"><font size="3">Looking for something to do with your family on Friday night? The 2nd and 4th Friday of each Month\, May 2 through August\, the City of St. George and Write It Up! will turn Town Square into an outdoor theater. This weeks movie is Napoleon Dynamite with the </font><font size="3">Country Showdown to be held right before the event from 6 - 7:30.<u5:p></u5:p><o:p></o:p></font></font></font></p>\n<p class="MsoNormal" style="margin: 0in 0in 0pt\;">\n	<font color="#000000"><font face="Calibri"><font size="3"><font face="Times New Roman"><u5:p></u5:p></font>Bring your blankets and lawn chairs and enjoy family films beginning at dusk. With food\, games\, prizes and fun for everyone\, you&rsquo\;ll want to be at every one! Avg. attendance is+/- 2000 per night or more\, making Sunset on the Square the perfect opportunity to promote your business as a vendor or Sponsor - or just to have fun!&nbsp\;</font></font></font></p>\n<font size="3"><font color="#000000"><font face="Times New Roman"><u5:p></u5:p></font></font></font>
LOCATION:Town Square Park\, St. George\, Utah 84770
UID:e.1117.2954
SEQUENCE:3
DTSTAMP:20260422T041916Z
URL:https://business.stgeorgechamber.com/events/details/sunset-on-the-square-summer-movie-series-05-24-2013-2954
END:VEVENT

END:VCALENDAR
