BEGIN:VCALENDAR
VERSION:2.0
PRODID:-//ChamberMaster//Event Calendar 2.0//EN
METHOD:PUBLISH
X-PUBLISHED-TTL:P3D
REFRESH-INTERVAL:P3D
CALSCALE:GREGORIAN
BEGIN:VEVENT
DTSTART:20150613T000000Z
DTEND:20150613T050000Z
X-MICROSOFT-CDO-ALLDAYEVENT:FALSE
SUMMARY:Sunset on the Square: Mr. Peabody and Sherman
DESCRIPTION:Starting at dusk and running every 2nd and 4th Friday of the month\, starting on May 22 thru August 28. Everyone is welcomed to come and enjoy family friendly movies in the outdoors on a 14 by 20 foot screen. COME EARLY and bring your lawn chairs\, blankets and pillows. Pack a picnic style dinner or purchase snacks from the vendors selling movie type treats. Spend a warm and enjoyable evening with the family! Let the kids cool off in the splash area. Be sure to have a towel or two to dry them off before snuggling them into their PJ's and settling down for the movie of the week!\n\nTONIGHTS SHOW: "Mr. Peabody and Sherman"
X-ALT-DESC;FMTTYPE=text/html:Starting at dusk and running every 2nd and 4th Friday of the month\, starting on May 22&nbsp\;thru August 28. Everyone is welcomed to come and enjoy family friendly movies in the outdoors on a 14 by 20 foot screen. COME EARLY and bring your lawn chairs\, blankets and pillows. Pack a picnic style dinner or purchase snacks from the vendors selling movie type treats. Spend a warm and enjoyable evening with the family! Let the kids cool off in the splash area. Be sure to have a towel or two to dry them off before snuggling them into their PJ&#39\;s and settling down for the movie of the week!<br />\nTONIGHTS SHOW: &quot\;Mr. Peabody and Sherman&quot\;
LOCATION:St. George Town Square
UID:e.1117.6424
SEQUENCE:3
DTSTAMP:20260420T133508Z
URL:https://business.stgeorgechamber.com/events/details/sunset-on-the-square-mr-peabody-and-sherman-06-12-2015-6424
END:VEVENT

END:VCALENDAR
