BEGIN:VCALENDAR
VERSION:2.0
PRODID:-//ChamberMaster//Event Calendar 2.0//EN
METHOD:PUBLISH
X-PUBLISHED-TTL:P3D
REFRESH-INTERVAL:P3D
CALSCALE:GREGORIAN
BEGIN:VEVENT
DTSTART:20130713T000000Z
DTEND:20130713T050000Z
X-MICROSOFT-CDO-ALLDAYEVENT:FALSE
SUMMARY:Sunset on the Square - Ice Age: Continental Drift
DESCRIPTION:Looking for something to do with your family on Friday night? The 2nd and 4th Friday of each Month\, May 2 through August\, the City of St. George and Write It Up! will turn Town Square into an outdoor theater. This weeks movie is Ice Age:  Continental Drift.\n\n	Bring your blankets and lawn chairs and enjoy family films beginning at dusk. With food\, games\, prizes and fun for everyone\, you'll want to be at every one!
X-ALT-DESC;FMTTYPE=text/html:<p class="MsoNormal" style="margin: 0in 0in 0pt\;">\n	<font color="#000000"><font face="Calibri"><font size="3">Looking for something to do with your family on Friday night? The 2nd and 4th Friday of each Month\, May 2 through August\, the City of St. George and Write It Up! will turn Town Square into an outdoor theater. This weeks movie is Ice Age: &nbsp\;Continental Drift.</font></font></font></p>\n<p class="MsoNormal" style="margin: 0in 0in 0pt\;">\n	<font color="#000000"><font face="Calibri"><font size="3"><font face="Times New Roman"><u5:p></u5:p></font>Bring your blankets and lawn chairs and enjoy family films beginning at dusk. With food\, games\, prizes and fun for everyone\, you&rsquo\;ll want to be at every one!&nbsp\;</font></font></font></p>\n<font size="3"><font color="#000000"><font face="Times New Roman"><u5:p></u5:p></font></font></font>
LOCATION:Town Square Park\, St. George\, Utah 84770
UID:e.1117.3874
SEQUENCE:3
DTSTAMP:20260422T011134Z
URL:https://business.stgeorgechamber.com/events/details/sunset-on-the-square-ice-age-continental-drift-07-12-2013-3874
END:VEVENT

END:VCALENDAR
