BEGIN:VCALENDAR
VERSION:2.0
PRODID:-//ChamberMaster//Event Calendar 2.0//EN
METHOD:PUBLISH
X-PUBLISHED-TTL:P3D
REFRESH-INTERVAL:P3D
CALSCALE:GREGORIAN
BEGIN:VEVENT
DTSTART:20130914T000000Z
DTEND:20130914T050000Z
X-MICROSOFT-CDO-ALLDAYEVENT:FALSE
SUMMARY:Sunset on the Square: Ice Age 2
DESCRIPTION:Starting at dusk and running every 2nd and 4th Friday of the month\, starting on 5/24/13 thru 9/13/13. Everyone is welcomed to come and enjoy family friendly movies in the outdoors on a 14 by 20 foot screen. COME EARLY and bring your lawn chairs\, blankets and pillows. Pack a picnic style dinner or purchase snacks from the vendors sellling movie type treats. Spend a warm and enjoyable evening with the family! Let the kids cool off in the splash area. Be sure to have a towel or two to dry them off before snuggling them into their PJ's and settling down for the movie of the week! TONIGHTS SHOW: "Ice Age:Continental Drift"
X-ALT-DESC;FMTTYPE=text/html:Starting at dusk and running every 2nd and 4th Friday of the month\, starting on 5/24/13 thru 9/13/13. Everyone is welcomed to come and enjoy family friendly movies in the outdoors on a 14 by 20 foot screen. COME EARLY and bring your lawn chairs\, blankets and pillows. Pack a picnic style dinner or purchase snacks from the vendors sellling movie type treats. Spend a warm and enjoyable evening with the family! Let the kids cool off in the splash area. Be sure to have a towel or two to dry them off before snuggling them into their PJ&#39\;s and settling down for the movie of the week! TONIGHTS SHOW: &quot\;Ice Age:Continental Drift&quot\; 
LOCATION:St. George Town Square
UID:e.1117.4216
SEQUENCE:3
DTSTAMP:20260421T232805Z
URL:https://business.stgeorgechamber.com/events/details/sunset-on-the-square-ice-age-2-09-13-2013-4216
END:VEVENT

END:VCALENDAR
