BEGIN:VCALENDAR
VERSION:2.0
PRODID:-//ChamberMaster//Event Calendar 2.0//EN
METHOD:PUBLISH
X-PUBLISHED-TTL:P3D
REFRESH-INTERVAL:P3D
CALSCALE:GREGORIAN
BEGIN:VEVENT
DTSTART:20160625T000000Z
DTEND:20160625T050000Z
X-MICROSOFT-CDO-ALLDAYEVENT:FALSE
SUMMARY:Sunset on the Square: Honey I Shrunk The Kids
DESCRIPTION:Starting at dusk and running every 2nd and 4th Friday of the month\, starting on May 27 thru August 26. Everyone is welcomed to come and enjoy family friendly movies in the outdoors on a 14 by 20 foot screen. COME EARLY and bring your lawn chairs\, blankets and pillows. Pack a picnic style dinner or purchase snacks from the vendors selling movie type treats. Spend a warm and enjoyable evening with the family! Let the kids cool off in the splash area. Be sure to have a towel or two to dry them off before snuggling them into their PJ's and settling down for the movie of the week!\n\nTONIGHTS SHOW: "Honey I Shrunk the Kids"
X-ALT-DESC;FMTTYPE=text/html:<span style="color:#000000\;">Starting at dusk and running every 2nd and 4th Friday of the month\, starting on May 27&nbsp\;thru August 26. Everyone is welcomed to come and enjoy family friendly movies in the outdoors on a 14 by 20 foot screen. COME EARLY and bring your lawn chairs\, blankets and pillows. Pack a picnic style dinner or purchase snacks from the vendors selling movie type treats. Spend a warm and enjoyable evening with the family! Let the kids cool off in the splash area. Be sure to have a towel or two to dry them off before snuggling them into their PJ&#39\;s and settling down for the movie of the week!<br />\nTONIGHTS SHOW: &quot\;Honey I Shrunk the Kids&quot\;</span>
LOCATION:St. George Town Square
UID:e.1117.8989
SEQUENCE:3
DTSTAMP:20260419T183608Z
URL:https://business.stgeorgechamber.com/events/details/sunset-on-the-square-honey-i-shrunk-the-kids-06-24-2016-8989
END:VEVENT

END:VCALENDAR
