BEGIN:VCALENDAR
VERSION:2.0
PRODID:-//ChamberMaster//Event Calendar 2.0//EN
METHOD:PUBLISH
X-PUBLISHED-TTL:P3D
REFRESH-INTERVAL:P3D
CALSCALE:GREGORIAN
BEGIN:VEVENT
DTSTART:20160723T000000Z
DTEND:20160723T050000Z
X-MICROSOFT-CDO-ALLDAYEVENT:FALSE
SUMMARY:Sunset on the Square: Cool Runnings
DESCRIPTION:Starting at dusk and running every 2nd and 4th Friday of the month\, starting on May 27 thru August 26. Everyone is welcomed to come and enjoy family friendly movies in the outdoors on a 14 by 20 foot screen. COME EARLY and bring your lawn chairs\, blankets and pillows. Pack a picnic style dinner or purchase snacks from the vendors selling movie type treats. Spend a warm and enjoyable evening with the family! Let the kids cool off in the splash area. Be sure to have a towel or two to dry them off before snuggling them into their PJ's and settling down for the movie of the week!\n\nTONIGHTS SHOW: "Cool Runnings"
X-ALT-DESC;FMTTYPE=text/html:<span style="color:#000000\;">Starting at dusk and running every 2nd and 4th Friday of the month\, starting on May 27&nbsp\;thru August 26. Everyone is welcomed to come and enjoy family friendly movies in the outdoors on a 14 by 20 foot screen. COME EARLY and bring your lawn chairs\, blankets and pillows. Pack a picnic style dinner or purchase snacks from the vendors selling movie type treats. Spend a warm and enjoyable evening with the family! Let the kids cool off in the splash area. Be sure to have a towel or two to dry them off before snuggling them into their PJ&#39\;s and settling down for the movie of the week!<br />\nTONIGHTS SHOW: &quot\;Cool Runnings&quot\;</span>
LOCATION:St. George Town Square
UID:e.1117.8991
SEQUENCE:3
DTSTAMP:20260419T165011Z
URL:https://business.stgeorgechamber.com/events/details/sunset-on-the-square-cool-runnings-07-22-2016-8991
END:VEVENT

END:VCALENDAR
