BEGIN:VCALENDAR
VERSION:2.0
PRODID:-//ChamberMaster//Event Calendar 2.0//EN
METHOD:PUBLISH
X-PUBLISHED-TTL:P3D
REFRESH-INTERVAL:P3D
CALSCALE:GREGORIAN
BEGIN:VEVENT
DTSTART:20150620T020000Z
DTEND:20150620T040000Z
X-MICROSOFT-CDO-ALLDAYEVENT:FALSE
SUMMARY:Summer Concert Series featuring Zion Canyon Music Festival
DESCRIPTION:YAZ BENEFIT CONCERT\n\nZION CANYON MUSIC FESTIVAL
X-ALT-DESC;FMTTYPE=text/html:<p style="color: rgb(0\, 0\, 0)\; font-family: Tahoma\, Geneva\, sans-serif\; font-size: medium\; line-height: normal\;">YAZ BENEFIT CONCERT</p>\n\n<p style="color: rgb(0\, 0\, 0)\; font-family: Tahoma\, Geneva\, sans-serif\; font-size: medium\; line-height: normal\;">ZION CANYON MUSIC FESTIVAL</p>\n
LOCATION:Tanner Amphitheater 350 W. Lion Blvd. Springdale\, Utah
UID:e.1117.6446
SEQUENCE:3
DTSTAMP:20260420T155733Z
URL:https://business.stgeorgechamber.com/events/details/summer-concert-series-featuring-zion-canyon-music-festival-06-19-2015-6446
END:VEVENT

END:VCALENDAR
