BEGIN:VCALENDAR
VERSION:2.0
PRODID:-//ChamberMaster//Event Calendar 2.0//EN
METHOD:PUBLISH
X-PUBLISHED-TTL:P3D
REFRESH-INTERVAL:P3D
CALSCALE:GREGORIAN
BEGIN:VEVENT
DTSTART:20150614T020000Z
DTEND:20150614T040000Z
X-MICROSOFT-CDO-ALLDAYEVENT:FALSE
SUMMARY:Summer Concert Series featuring Randy Anderson Band
DESCRIPTION:Celebrate the silver anniversary of the Randy Anderson Band at the Tanner! This is the best of summer fun with the hugely popular entertaining\, energetic and swinging show. There is dancing in the pit\, food\, entertainment and music all evening. Summer concerts do not get any better! The nights are cool\, the scenery can't be beat and Randy is back!\n\nIt is said that one of the best ways to forget about your troubles is to let go and line dance - expressly to music by Randy. Good advice for many Anderson fans who two-step every chance they get and whose lives have turned around. The band plays and sings country-western with an easy swing and an irresistible toe-tappin' rhythm. Fans are invited to dance the night away or to sit back and relish the music of the evening under the stars. The band plays some traditional and sensitive love songs such as "Every Time It Rains\," Daddy\, I Love you\," and "Hey\, Good Lookin'". Humor is always a part of the evening with such songs as "Five Guys Names Moe\," of Hillbilly Rock. Band members blend in unity and harmony and are excellent soloist as well. Start time for this concert only is 7:30 pm.
X-ALT-DESC;FMTTYPE=text/html:<p style="color: rgb(0\, 0\, 0)\; font-family: Tahoma\, Geneva\, sans-serif\; font-size: medium\; line-height: normal\;">Celebrate the silver anniversary of the Randy Anderson Band at the Tanner! This is the best of summer fun with the hugely popular entertaining\, energetic and swinging show. There is dancing in the pit\, food\, entertainment and music all evening. Summer concerts do not get any better! The nights are cool\, the scenery can&#39\;t be beat and Randy is back!</p>\n\n<p style="color: rgb(0\, 0\, 0)\; font-family: Tahoma\, Geneva\, sans-serif\; font-size: medium\; line-height: normal\;">It is said that one of the best ways to forget about your troubles is to let go and line dance - expressly to music by Randy. Good advice for many Anderson fans who two-step every chance they get and whose lives have turned around. The band plays and sings country-western with an easy swing and an irresistible toe-tappin&#39\; rhythm. Fans are invited to dance the night away or to sit back and relish the music of the evening under the stars. The band plays some traditional and sensitive love songs such as &quot\;Every Time It Rains\,&quot\; Daddy\, I Love you\,&quot\; and &quot\;Hey\, Good Lookin&#39\;&quot\;. Humor is always a part of the evening with such songs as &quot\;Five Guys Names Moe\,&quot\; of Hillbilly Rock. Band members blend in unity and harmony and are excellent soloist as well. Start time for this concert only is 7:30 pm.</p>\n
LOCATION:Tanner Amphitheater 350 W. Lion Blvd. Springdale\, Utah
UID:e.1117.6445
SEQUENCE:3
DTSTAMP:20260420T135514Z
URL:https://business.stgeorgechamber.com/events/details/summer-concert-series-featuring-randy-anderson-band-06-13-2015-6445
END:VEVENT

END:VCALENDAR
