BEGIN:VCALENDAR
VERSION:2.0
PRODID:-//ChamberMaster//Event Calendar 2.0//EN
METHOD:PUBLISH
X-PUBLISHED-TTL:P3D
REFRESH-INTERVAL:P3D
CALSCALE:GREGORIAN
BEGIN:VEVENT
DTSTART:20150607T020000Z
DTEND:20150607T040000Z
X-MICROSOFT-CDO-ALLDAYEVENT:FALSE
SUMMARY:Summer Concert Series featuring Lyndy Butler
DESCRIPTION:A little bit country\, a little bit pop 'n' roll
X-ALT-DESC;FMTTYPE=text/html:<p style="color: rgb(0\, 0\, 0)\; font-family: Tahoma\, Geneva\, sans-serif\; font-size: medium\; line-height: normal\;"><span style="color: rgb(0\, 0\, 0)\; font-family: Tahoma\, Geneva\, sans-serif\; font-size: medium\; line-height: normal\;">A little bit country\, a little bit pop &lsquo\;n&rsquo\; roll</span></p>\n
LOCATION:Tanner Amphitheater 350 W. Lion Blvd. Springdale\, Utah
UID:e.1117.6444
SEQUENCE:3
DTSTAMP:20260420T135604Z
URL:https://business.stgeorgechamber.com/events/details/summer-concert-series-featuring-lyndy-butler-06-06-2015-6444
END:VEVENT

END:VCALENDAR
