BEGIN:VCALENDAR
VERSION:2.0
PRODID:-//ChamberMaster//Event Calendar 2.0//EN
METHOD:PUBLISH
X-PUBLISHED-TTL:P3D
REFRESH-INTERVAL:P3D
CALSCALE:GREGORIAN
BEGIN:VEVENT
DTSTART:20150719T020000Z
DTEND:20150719T040000Z
X-MICROSOFT-CDO-ALLDAYEVENT:FALSE
SUMMARY:Summer Concert Series featuring Lawn Darts
DESCRIPTION:Come enjoy an evening of classic rock tunes performed by the legendary band\, Lawn Darts.\n\nFronted by vocalist\,Travis Brown and by guitar virtuoso\, Lisle Crowley\, the Lawn Darts will have you dancing in the aisles.  Add in the backdrop of the cliffs of Zion National Park\, and you have the makings of a perfect summer event.  We will see you there!
X-ALT-DESC;FMTTYPE=text/html:<p style="color: rgb(0\, 0\, 0)\; font-family: Tahoma\, Geneva\, sans-serif\; font-size: medium\; line-height: normal\;">Come enjoy an evening of classic rock tunes performed by the legendary band\, Lawn Darts.</p>\n\n<p style="color: rgb(0\, 0\, 0)\; font-family: Tahoma\, Geneva\, sans-serif\; font-size: medium\; line-height: normal\;">Fronted by vocalist\,Travis Brown and by guitar virtuoso\, Lisle Crowley\, the Lawn Darts will have you dancing in the aisles. &nbsp\;Add in the backdrop of the cliffs of Zion National Park\, and you have the makings of a perfect summer event. &nbsp\;We will see you there!</p>\n
LOCATION:Tanner Amphitheater 350 W. Lion Blvd. Springdale\, Utah
UID:e.1117.6981
SEQUENCE:3
DTSTAMP:20260420T133710Z
URL:https://business.stgeorgechamber.com/events/details/summer-concert-series-featuring-lawn-darts-07-18-2015-6981
END:VEVENT

END:VCALENDAR
