BEGIN:VCALENDAR
VERSION:2.0
PRODID:-//ChamberMaster//Event Calendar 2.0//EN
METHOD:PUBLISH
X-PUBLISHED-TTL:P3D
REFRESH-INTERVAL:P3D
CALSCALE:GREGORIAN
BEGIN:VEVENT
DTSTART:20150524T020000Z
DTEND:20150524T040000Z
X-MICROSOFT-CDO-ALLDAYEVENT:FALSE
SUMMARY:Summer Concert Series featuring Lawn Darts
DESCRIPTION:Country\, rock\, religious   a little bit of everything WCSD\, SGPD receive 2 for 1 entry with ID
X-ALT-DESC;FMTTYPE=text/html:<p style="color: rgb(0\, 0\, 0)\; font-family: Tahoma\, Geneva\, sans-serif\; font-size: medium\; line-height: normal\;"><span style="color: rgb(0\, 0\, 0)\; font-family: Tahoma\, Geneva\, sans-serif\; font-size: medium\; line-height: normal\;">Country\, rock\, religious &mdash\; a little bit of everything WCSD\, SGPD receive 2 for 1 entry with ID</span></p>\n
LOCATION:Tanner Amphitheater 350 W. Lion Blvd. Springdale\, Utah
UID:e.1117.6443
SEQUENCE:3
DTSTAMP:20260420T173126Z
URL:https://business.stgeorgechamber.com/events/details/summer-concert-series-featuring-lawn-darts-05-23-2015-6443
END:VEVENT

END:VCALENDAR
