BEGIN:VCALENDAR
VERSION:2.0
PRODID:-//ChamberMaster//Event Calendar 2.0//EN
METHOD:PUBLISH
X-PUBLISHED-TTL:P3D
REFRESH-INTERVAL:P3D
CALSCALE:GREGORIAN
BEGIN:VEVENT
DTSTART:20150509T020000Z
DTEND:20150509T040000Z
X-MICROSOFT-CDO-ALLDAYEVENT:FALSE
SUMMARY:Summer Concert Series featuring Drawn: The Art of Ascent
DESCRIPTION:YAZ PRESENTS\n\nDRAWN: THE ART OF ASCENT\n\nA documentary by Jeremy Collins\n\n3 Hat Trio will also perform
X-ALT-DESC;FMTTYPE=text/html:<p style="color: rgb(0\, 0\, 0)\; font-family: Tahoma\, Geneva\, sans-serif\; font-size: medium\; line-height: normal\;">YAZ PRESENTS</p>\n\n<p style="color: rgb(0\, 0\, 0)\; font-family: Tahoma\, Geneva\, sans-serif\; font-size: medium\; line-height: normal\;">DRAWN: THE ART OF ASCENT<br />\nA documentary by Jeremy Collins<br />\n3 Hat Trio will also perform</p>\n
LOCATION:Tanner Amphitheater 350 W. Lion Blvd. Springdale\, Utah
UID:e.1117.6441
SEQUENCE:3
DTSTAMP:20260420T155629Z
URL:https://business.stgeorgechamber.com/events/details/summer-concert-series-featuring-drawn-the-art-of-ascent-05-08-2015-6441
END:VEVENT

END:VCALENDAR
