BEGIN:VCALENDAR
VERSION:2.0
PRODID:-//ChamberMaster//Event Calendar 2.0//EN
METHOD:PUBLISH
X-PUBLISHED-TTL:P3D
REFRESH-INTERVAL:P3D
CALSCALE:GREGORIAN
BEGIN:VEVENT
DTSTART:20150919T180000Z
DTEND:20150919T210000Z
X-MICROSOFT-CDO-ALLDAYEVENT:FALSE
SUMMARY:Strut Your Mutt Walk - Best Friends Animal Society
DESCRIPTION:Add some excitement to your usual weekend plans with your dog\, and do it for a great cause! At Strut Your Mutt\, you can enjoy a leisurely community dog walk and then hang out at a festival for all things dog (and dog-lovers). This life-saving annual event\, which includes doggie yoga\, pet portraits\, refreshments\, music\, contests\, post-run pet massages and more\, is for a great cause--ending the killing of pets in America's shelters. As one of 12 events happening across the country\, your local Strut Your Mutt event provides a platform for local rescues and shelters to raise money for providing critical funding for lifesaving adoption\, spay/ neuter programs\, and more.
X-ALT-DESC;FMTTYPE=text/html:Add some excitement to your usual weekend plans with your dog\, and do it for a great cause! At Strut Your Mutt\, you can enjoy a leisurely community dog walk and then hang out at a festival for all things dog (and dog-lovers). This life-saving annual event\, which includes doggie yoga\, pet portraits\, refreshments\, music\, contests\, post-run pet massages and more\, is for a great cause--ending the killing of pets in America&#39\;s shelters. As one of 12 events happening across the country\, your local Strut Your Mutt event provides a platform for local rescues and shelters to raise money for providing critical funding for lifesaving adoption\, spay/ neuter programs\, and more.
LOCATION:Best Friends Animal Sanctuary 5001 Angel Canyon Rd. Kanab\, UT 84741
UID:e.1117.6971
SEQUENCE:3
DTSTAMP:20260420T090404Z
URL:https://business.stgeorgechamber.com/events/details/strut-your-mutt-walk-best-friends-animal-society-09-19-2015-6971
END:VEVENT

END:VCALENDAR
