BEGIN:VCALENDAR
VERSION:2.0
PRODID:-//ChamberMaster//Event Calendar 2.0//EN
METHOD:PUBLISH
X-PUBLISHED-TTL:P3D
REFRESH-INTERVAL:P3D
CALSCALE:GREGORIAN
BEGIN:VEVENT
DTSTART:20131113T210000Z
DTEND:20131114T000000Z
X-MICROSOFT-CDO-ALLDAYEVENT:FALSE
SUMMARY:Stevens-Henager College Career Fair
DESCRIPTION:Come meet potential employers at the Stevens-Henager College St. George Campus Career Fair. Make sure you bring plenty of resumes and that you dress professionally. It is free admission and open to the public.
X-ALT-DESC;FMTTYPE=text/html:Come meet potential employers at the Stevens-Henager College St. George Campus Career Fair. Make sure you bring plenty of resumes and that you dress professionally. It is free admission and open to the public.
LOCATION:Stevens-Henager College St. George Campus: 720 S. River Road St. George\, UT 84790
UID:e.1117.4932
SEQUENCE:3
DTSTAMP:20260421T183325Z
URL:https://business.stgeorgechamber.com/events/details/stevens-henager-college-career-fair-11-13-2013-4932
END:VEVENT

END:VCALENDAR
