BEGIN:VCALENDAR
VERSION:2.0
PRODID:-//ChamberMaster//Event Calendar 2.0//EN
METHOD:PUBLISH
X-PUBLISHED-TTL:P3D
REFRESH-INTERVAL:P3D
CALSCALE:GREGORIAN
BEGIN:VEVENT
DTSTART:20130828T180000Z
DTEND:20130828T220000Z
X-MICROSOFT-CDO-ALLDAYEVENT:FALSE
SUMMARY:Stevens-Henager College Blood Drive
DESCRIPTION:Come to the Stevens-Henager College St. George Campus to donate blood! The American Red Cross bloodmobile will be at the campus on 720 S. River Road Suite C-130 from 12-4 pm.  Call Tyler at (435) 628-9902 Ext. 2140 to schedule an appointment or click on the following link: http://goo.gl/5ANfgm
X-ALT-DESC;FMTTYPE=text/html:Come to the Stevens-Henager College St. George Campus to donate blood! The American Red Cross bloodmobile will be at the campus on 720 S. River Road Suite C-130 from 12-4 pm. &nbsp\;Call Tyler at (435) 628-9902 Ext. 2140 to schedule an appointment or click on the following link:&nbsp\;http://goo.gl/5ANfgm 
LOCATION:720 S. River Road Ste. C-130 St. George\, UT 84790
UID:e.1117.4256
SEQUENCE:3
DTSTAMP:20260422T011326Z
URL:https://business.stgeorgechamber.com/events/details/stevens-henager-college-blood-drive-08-28-2013-4256
END:VEVENT

END:VCALENDAR
