BEGIN:VCALENDAR
VERSION:2.0
PRODID:-//ChamberMaster//Event Calendar 2.0//EN
METHOD:PUBLISH
X-PUBLISHED-TTL:P3D
REFRESH-INTERVAL:P3D
CALSCALE:GREGORIAN
BEGIN:VEVENT
DTSTART:20141009T233000Z
DTEND:20141010T013000Z
X-MICROSOFT-CDO-ALLDAYEVENT:FALSE
SUMMARY:Steps for Hope Fundraising Walk
DESCRIPTION:Come out for a night of family fun in support of Hope Pregnancy Care Center. Bring a baby bottle full of change\, bills\, or a check and get a gift (one gift per bottle).
X-ALT-DESC;FMTTYPE=text/html:Come out for a night of family fun in support of Hope Pregnancy Care Center. Bring a baby bottle full of change\, bills\, or a check and get a gift (one gift per bottle).
LOCATION:St. George Town Square
UID:e.1117.6115
SEQUENCE:3
DTSTAMP:20260421T042107Z
URL:https://business.stgeorgechamber.com/events/details/steps-for-hope-fundraising-walk-10-09-2014-6115
END:VEVENT

END:VCALENDAR
