BEGIN:VCALENDAR
VERSION:2.0
PRODID:-//ChamberMaster//Event Calendar 2.0//EN
METHOD:PUBLISH
X-PUBLISHED-TTL:P3D
REFRESH-INTERVAL:P3D
CALSCALE:GREGORIAN
BEGIN:VEVENT
DTSTART:20141109T023000Z
DTEND:20141109T050000Z
X-MICROSOFT-CDO-ALLDAYEVENT:FALSE
SUMMARY:Stayin' Alive
DESCRIPTION:STAYIN' ALIVE: One Night of the Bee Gees offers to their audiences the songs and sights of a full Bee Gees play list\, singing blockbusters such as "Night Fever"\, "Jive Talkin'"\, "How Deep Is Your Love"\, "You Should Be Dancing"\, "Nights on Broadway"\, and "Stayin' Alive". In addition\, they perform softer poetic ballads such as "I Started a Joke"\, "Massachusetts"\, "Fanny Be Tender"\, "Words"\, and "To Love Somebody" among other great hits.        \n\n      \n\nSTAYIN' ALIVE is the largest and most definitive production of its kind\, offering big screen video clips\, photos and dazzling imagery. STAYIN' ALIVE has played intimate settings as a six piece band and huge venues with a 62 piece orchestra. STAYIN' ALIVE is the quintessential tribute band to the Bee Gees\, capturing the excitement of live performance and the tender subtleties of the human voice!
X-ALT-DESC;FMTTYPE=text/html:<strong>STAYIN&#39\; ALIVE: One Night of the Bee Gees </strong>offers to their audiences the songs and sights of a full Bee Gees play list\, singing blockbusters such as <em>&quot\;Night Fever&quot\;\, &quot\;Jive Talkin&#39\;&quot\;\, &quot\;How Deep Is Your Love&quot\;\, &quot\;You Should Be Dancing&quot\;\, &quot\;Nights on Broadway&quot\;</em>\, and <em>&quot\;Stayin&#39\; Alive&quot\;</em>. In addition\, they perform softer poetic ballads such as <em>&quot\;I Started a Joke&quot\;\, &quot\;Massachusetts&quot\;\, &quot\;Fanny Be Tender&quot\;\, &quot\;Words&quot\;\,</em> and <em>&quot\;To Love Somebody&quot\;</em> among other great hits. &nbsp\; &nbsp\; &nbsp\; &nbsp\;<br clear="none" />\n&nbsp\; &nbsp\; &nbsp\;&nbsp\;<br clear="none" />\n<strong>STAYIN&#39\; ALIVE</strong> is the largest and most definitive production of its kind\, offering big screen video clips\, photos and dazzling imagery. <strong>STAYIN&#39\; ALIVE</strong> has played intimate settings as a six piece band and huge venues with a 62 piece orchestra. <strong>STAYIN&#39\; ALIVE</strong> is the quintessential tribute band to the Bee Gees\, capturing the excitement of live performance and the tender subtleties of the human voice!
LOCATION:Tuacahn Amphitheater 1100 Tuacahn Drive Ivins\, UT
UID:e.1117.6177
SEQUENCE:3
DTSTAMP:20260421T025614Z
URL:https://business.stgeorgechamber.com/events/details/stayin-alive-11-08-2014-6177
END:VEVENT

END:VCALENDAR
