BEGIN:VCALENDAR
VERSION:2.0
PRODID:-//ChamberMaster//Event Calendar 2.0//EN
METHOD:PUBLISH
X-PUBLISHED-TTL:P3D
REFRESH-INTERVAL:P3D
CALSCALE:GREGORIAN
BEGIN:VEVENT
DTSTART:20150403T170000Z
DTEND:20150403T190000Z
X-MICROSOFT-CDO-ALLDAYEVENT:FALSE
SUMMARY:Stations of the Cross
DESCRIPTION:The St George Catholic Church will be hosting the Stations of the Cross on April 3\, 2015 at 11:00 am.  If you would like to participate\, meet at the northeast corner of the Bluff Street Park located on north Bluff St.  This is a wonderful way to start the Easter weekend.  Bring your family and remember Christ's sacrifice in this very meaningful ceremony.
X-ALT-DESC;FMTTYPE=text/html:<p style="float: none\; position: static\; margin: 0px 0px 10px\; padding: 0px\; border: 0px\; font-family: inherit\; font-style: inherit\; font-variant: inherit\; font-weight: inherit\; font-stretch: inherit\; line-height: 1\; vertical-align: baseline\; text-align: inherit\; color: inherit\; box-shadow: none\; border-radius: 0px\; box-sizing: border-box\; text-shadow: none\;"><span class="ng-binding" itemprop="description" ng-bind-html="event.description" style="float: none\; position: static\; margin: 0px\; padding: 0px\; border: 0px\; font-family: ProximaNova\, Helvetica\, Arial\, sans-serif\; font-stretch: inherit\; font-size: 15px\; line-height: 15px\; vertical-align: baseline\; color: rgb(0\, 0\, 0)\; box-shadow: none\; border-radius: 0px\; box-sizing: border-box\; text-shadow: none\;">The St George Catholic Church will be hosting the Stations of the Cross on April 3\, 2015 at 11:00 am.&nbsp\; If you would like to participate\, meet at the northeast corner of the Bluff Street Park located on north Bluff St.&nbsp\; This is a wonderful way to start the Easter weekend.&nbsp\; Bring your family and remember Christ&#39\;s sacrifice in this very meaningful ceremony.</span></p>\n
LOCATION:
UID:e.1117.6378
SEQUENCE:3
DTSTAMP:20260420T191001Z
URL:https://business.stgeorgechamber.com/events/details/stations-of-the-cross-04-03-2015-6378
END:VEVENT

END:VCALENDAR
