BEGIN:VCALENDAR
VERSION:2.0
PRODID:-//ChamberMaster//Event Calendar 2.0//EN
METHOD:PUBLISH
X-PUBLISHED-TTL:P3D
REFRESH-INTERVAL:P3D
CALSCALE:GREGORIAN
BEGIN:VEVENT
DTSTART:20150204T183000Z
DTEND:20150204T200000Z
X-MICROSOFT-CDO-ALLDAYEVENT:FALSE
SUMMARY:"State of the City" Address Featuring Mayor Pike
DESCRIPTION:You've heard the State of the Union and State of the State addresses in recent weeks. But what's happening locally with the things that affect you on a daily basis? Come join the Chamber of Commerce next Wednesday as we host St. George Mayor Jon Pike for his first annual "State of the City" address.\n\n \n\nThe economy in southwestern Utah continues to trend upward and Mayor Pike has been at the forefront of community planning efforts to prepare for the next decade of socio-economic opportunities and challenges. With a busy first year as mayor under his belt\, Pike will discuss local economic indicators\, touch on recent accomplishments and present some priorities for 2015 and beyond. Public safety\, transportation\, education\, economic development\, natural resources\, affordable housing and recreation are important factors that contribute to the quality of life we enjoy in St. George and surrounding areas. Knowing and understanding the pivotal role the City of St. George plays in several of these factors\, Pike will share his insight and philosophy for their sustainability moving forward.             \n\n \n\nAs an avid supporter of secondary and higher education institutions in Washington County\, Pike played a critical role in negotiations that will allow for a new elementary school downtown and provide Dixie State University the space for future campus growth and expansion of programs. He will touch on these and other key private and public partnerships in the community that will influence economic vitality in Utah's Dixie. If you're interested in what local government is doing for you\, your family and your business\, please join us at the first annual "State of the City!"
X-ALT-DESC;FMTTYPE=text/html:<span style="font-size:14px\;"><span style="font-family:arial\;">You&rsquo\;ve heard the State of the Union and State of the State addresses in recent weeks. But what&rsquo\;s happening locally with the things that affect you on a daily basis? Come join the Chamber of Commerce&nbsp\;<span data-term="goog_812188715" style="border-bottom-width:1px\;border-bottom-style:dashed\;position:relative\;top:-2px\;z-index:0\;" tabindex="0"><span style="position:relative\;top:2px\;z-index:-1\;">next Wednesday</span></span>&nbsp\;as we host St. George Mayor Jon Pike for his first annual &ldquo\;State of the City&rdquo\; address.<br />\n&nbsp\;<br />\nThe economy in southwestern Utah continues to trend upward and Mayor Pike has been at the forefront of community planning efforts to prepare for the next decade of socio-economic opportunities and challenges. With a busy first year as mayor under his belt\, Pike will discuss local economic indicators\, touch on recent accomplishments and present some priorities for 2015 and beyond. Public safety\, transportation\, education\, economic development\, natural resources\, affordable housing and recreation are important factors that contribute to the quality of life we enjoy in St. George and surrounding areas. Knowing and understanding the pivotal role the City of St. George plays in several of these factors\, Pike will share his insight and philosophy for their sustainability moving forward. &nbsp\;&nbsp\;&nbsp\;&nbsp\;&nbsp\;&nbsp\;&nbsp\;&nbsp\;&nbsp\;&nbsp\;&nbsp\;&nbsp\;<br />\n&nbsp\;<br />\nAs an avid supporter of secondary and higher education institutions in Washington County\, Pike played a critical role in negotiations that will allow for a new elementary school downtown and provide Dixie State University the space for future campus growth and expansion of programs. He will touch on these and other key private and public partnerships in the community that will influence economic vitality in Utah&rsquo\;s Dixie. If you&rsquo\;re interested in what local government is doing for you\, your family and your business\, please join us at the first annual &ldquo\;State of the City!&rdquo\;</span></span>
LOCATION:Courtyard by Marriott
UID:e.1117.6273
SEQUENCE:3
DTSTAMP:20260420T205405Z
URL:https://business.stgeorgechamber.com/events/details/state-of-the-city-address-featuring-mayor-pike-02-04-2015-6273
END:VEVENT

END:VCALENDAR
