BEGIN:VCALENDAR
VERSION:2.0
PRODID:-//ChamberMaster//Event Calendar 2.0//EN
METHOD:PUBLISH
X-PUBLISHED-TTL:P3D
REFRESH-INTERVAL:P3D
CALSCALE:GREGORIAN
BEGIN:VEVENT
DTSTART:20160203T183000Z
DTEND:20160203T200000Z
X-MICROSOFT-CDO-ALLDAYEVENT:FALSE
SUMMARY:"State of the City" Address Featuring Mayor Pike
DESCRIPTION:Come join the Chamber of Commerce next Wednesday\, February 3 at 12 pm as we host St. George Mayor Jon Pike for his second annual "State of the City" address surrounding the theme "More Happening Ahead."\n\n \n\nMayor Pike will present St. George City's 5 year action plan outlining specific areas the city will improve upon by 2021\, including upgrading transportation and roads to lower traffic and prepare for future growth\, and public safety to include more fire stations along with an online citizen reporting form. Plans to improve infrastructure and water treatment facilities\, and the continued dedication to the arts\, parks\, and outdoor recreation. The mayor will also discuss plans for economic development and a new face of St. George city online. \n\n \n\n"More Happening Ahead" speaks to the projects and people carrying the City of St. George forward. As an organization\, the City of St. George has a lot to be proud of and look forward to. If you're interested in what St. George City is planning for you\, your family and your business\, please join us at the second annual State of the City at the Courtyard Marriott.
X-ALT-DESC;FMTTYPE=text/html:<p><span style="font-size:14px\;"><span style="font-family:arial\;"><span style="color:#000000\;">Come join the Chamber of Commerce&nbsp\;next Wednesday\, February 3&nbsp\;at 12 pm as we host St. George Mayor Jon Pike for his second annual &ldquo\;State of the City&rdquo\; address surrounding the theme &quot\;More Happening Ahead.&quot\;<br />\n&nbsp\;<br />\nMayor Pike will present St. George City&#39\;s 5 year action plan outlining specific areas the city will improve upon by 2021\, including&nbsp\;upgrading transportation and&nbsp\;roads to lower traffic and prepare for future&nbsp\;growth\, and&nbsp\;public safety to include more fire stations along with an online citizen reporting form. Plans to improve infrastructure and water treatment facilities\, and the continued dedication to the arts\, parks\, and outdoor recreation. The mayor will also discuss plans for economic development and a new face of St. George city online.&nbsp\;<br />\n&nbsp\;<br />\n&quot\;More Happening Ahead&quot\; speaks to the projects and people carrying the City of St. George forward. As an organization\, the City of St. George has a lot to be proud of and look forward to. If&nbsp\;you&rsquo\;re interested in what St. George City is planning for you\, your family and your business\, please join us at the second annual State of the City at the Courtyard Marriott.</span></span></span></p>\n
LOCATION:Courtyard by Marriott 185 South 1470 East St. George\, UT
UID:e.1117.7398
SEQUENCE:3
DTSTAMP:20260419T234849Z
URL:https://business.stgeorgechamber.com/events/details/state-of-the-city-address-featuring-mayor-pike-02-03-2016-7398
END:VEVENT

END:VCALENDAR
