BEGIN:VCALENDAR
VERSION:2.0
PRODID:-//ChamberMaster//Event Calendar 2.0//EN
METHOD:PUBLISH
X-PUBLISHED-TTL:P3D
REFRESH-INTERVAL:P3D
CALSCALE:GREGORIAN
BEGIN:VEVENT
DTSTART:20150201T013000Z
DTEND:20150201T040000Z
X-MICROSOFT-CDO-ALLDAYEVENT:FALSE
SUMMARY:"Starry Nights Gala" Annual Community Awards and Installation Banquet
DESCRIPTION:Sponsored in part by Security Service Federal Credit Union\, the 2014 Annual Community Awards have been profiled to emphasize the unique mission of the St. George Chamber of Commerce and its advocacy of strengthening the role of businesses in our community. Help us celebrate the achievements of those individuals and/or businesses that have made an impact in one of the following categories: \n\n\n\nLegacy of a Lifetime Award (Lifetime Achievement)\n\nRay and Melzie Ganowsky\n\n\n\nChampion of Change (Public Servant of the Year)\n\nKent Perkins\, City of St. George Leisure Services Director\n\n\n\nEmergence of an Entrepreneur Award (Entrepreneur of the Year)\n\nCannibal Cycle\, Brent Weight and Darryl Zitting\n\n\n\nEmployee of Excellence Award (Employee of the Year)\n\nTat Chan--Habitat for Humanity of Southwest Utah\n\n\n\nInfluence of Innovation Award (Innovator of the Year)\n\nMitch Cloward\, Dixie Regional Medical Center\n\n\n\nCommunity of Compassion (Non-profit of the Year)\n\nThe Learning Center for Families\n\n\n\nSpirit of Dixie Award (Volunteer of the Year)\n\nThe St. George Exchange Club\n\n\n\nBusiness Integrity Award\n\nThayne Houston\, ERA Brokers Consolidated
X-ALT-DESC;FMTTYPE=text/html:<span style="font-family:arial\;"><span style="font-size: 14px\;">Sponsored in part by<a href="http://ssfcu.org"> Security Service Federal Credit Union</a>\, the 2014 Annual Community Awards have been profiled to emphasize the unique mission of the St. George Chamber of Commerce and its advocacy of strengthening the role of businesses in our community. Help us celebrate the achievements of those individuals and/or businesses that have made an impact in one of the following categories:&nbsp\;<br />\n<br />\n<strong><u>Legacy of a Lifetime Award (Lifetime Achievement)</u></strong><br />\nRay and Melzie Ganowsky<br />\n<br />\n<strong><u>Champion of Change (Public Servant of the Year)</u></strong><br />\nKent Perkins\, City of St. George Leisure Services Director<br />\n<br />\n<strong><u>Emergence of an Entrepreneur Award (Entrepreneur of the Year)</u></strong><br />\nCannibal Cycle\, Brent Weight and Darryl Zitting<br />\n<br />\n<strong><u>Employee of Excellence Award (Employee of the Year)</u></strong><br />\nTat Chan--Habitat for Humanity of Southwest Utah<br />\n<br />\n<strong><u>Influence of Innovation Award (Innovator of the Year)</u></strong><br />\nMitch Cloward\, Dixie Regional Medical Center<br />\n<br />\n<strong><u>Community of Compassion (Non-profit of the Year)</u></strong><br />\nThe Learning Center for Families<br />\n<br />\n<strong><u>Spirit of Dixie Award (Volunteer of the Year)</u></strong><br />\nThe St. George Exchange Club</span></span><br />\n<br />\n<strong style="font-family: arial\; font-size: 14px\; line-height: 22.3999996185303px\;"><u>Business Integrity Award</u></strong><br style="font-family: arial\; font-size: 14px\; line-height: 22.3999996185303px\;" />\n<span style="font-family: arial\; font-size: 14px\; line-height: 22.3999996185303px\;">Thayne Houston\, ERA Brokers Consolidated</span>
LOCATION:SunRiver Ballroom 4275 S. Country Club Dr. St. George\, Utah
UID:e.1117.6234
SEQUENCE:3
DTSTAMP:20260420T221259Z
URL:https://business.stgeorgechamber.com/events/details/starry-nights-gala-annual-community-awards-and-installation-banquet-01-31-2015-6234
END:VEVENT

END:VCALENDAR
