BEGIN:VCALENDAR
VERSION:2.0
PRODID:-//ChamberMaster//Event Calendar 2.0//EN
METHOD:PUBLISH
X-PUBLISHED-TTL:P3D
REFRESH-INTERVAL:P3D
CALSCALE:GREGORIAN
BEGIN:VEVENT
DTSTART:20160131T013000Z
DTEND:20160131T040000Z
X-MICROSOFT-CDO-ALLDAYEVENT:FALSE
SUMMARY:"Starry Nights Gala" Annual Community Awards and Installation Banquet
DESCRIPTION:Sponsored in part by Security Service Federal Credit Union\, the 2015 Annual Community Awards have been profiled to emphasize the unique mission of the St. George Chamber of Commerce and its advocacy of strengthening the role of businesses in our community. Help us celebrate the achievements of those individuals and/or businesses that have made an impact in one of the following categories: \n\n\n\nLegacy of a Lifetime Award (Lifetime Achievement)\n\nMax Rose\n\n\n\nChampion of Change (Public Servant of the Year)\n\nGary Esplin\, City of St. George City Manager\n\n\n\nEmergence of an Entrepreneur Award (Entrepreneur of the Year)\n\nSquatty Potty\, Bobby Edwards\n\n\n\nEmployee of Excellence Award (Employee of the Year)\n\nDave Hawk--ServPro\n\n\n\nInfluence of Innovation Award (Innovator of the Year)\n\nDr. Lincoln Nadauld\, Dixie Regional Medical Center\n\n\n\nCommunity of Compassion (Non-profit of the Year)\n\nThe DOVE Center\n\n\n\nSpirit of Dixie Award (Volunteer of the Year)\n\nCarmen Snow\n\n\n\nBusiness Integrity Award\n\nParke and Emily Cox\, Cox Trucking
X-ALT-DESC;FMTTYPE=text/html:<span style="font-family:arial\;"><span style="font-size: 14px\;"><span style="color:#000000\;">Sponsored in part by</span><a href="http://ssfcu.org"><span style="color:#000000\;"> Security Service Federal Credit Union</span></a><span style="color:#000000\;">\, the 2015 Annual Community Awards have been profiled to emphasize the unique mission of the St. George Chamber of Commerce and its advocacy of strengthening the role of businesses in our community. Help us celebrate the achievements of those individuals and/or businesses that have made an impact in one of the following categories:&nbsp\;<br />\n<br />\n<strong><u>Legacy of a Lifetime Award (Lifetime Achievement)</u></strong><br />\nMax Rose<br />\n<br />\n<strong><u>Champion of Change (Public Servant of the Year)</u></strong><br />\nGary Esplin\, City of St. George City Manager<br />\n<br />\n<strong><u>Emergence of an Entrepreneur Award (Entrepreneur of the Year)</u></strong><br />\nSquatty Potty\, Bobby Edwards<br />\n<br />\n<strong><u>Employee of Excellence Award (Employee of the Year)</u></strong><br />\nDave Hawk--ServPro<br />\n<br />\n<strong><u>Influence of Innovation Award (Innovator of the Year)</u></strong><br />\nDr. Lincoln Nadauld\, Dixie Regional Medical Center<br />\n<br />\n<strong><u>Community of Compassion (Non-profit of the Year)</u></strong><br />\nThe DOVE Center<br />\n<br />\n<strong><u>Spirit of Dixie Award (Volunteer of the Year)</u></strong><br />\nCarmen Snow</span></span></span><br />\n<br />\n<span style="color:#000000\;"><strong style="font-family: arial\; font-size: 14px\; line-height: 22.3999996185303px\;"><u>Business Integrity Award</u></strong><br style="font-family: arial\; font-size: 14px\; line-height: 22.3999996185303px\;" />\n<font face="arial"><span style="font-size: 14px\; line-height: 22.4px\;">Parke and Emily Cox\, Cox Trucking</span></font></span>
LOCATION:SunRiver Ballroom 4275 S. Country Club Dr. St. George\, Utah
UID:e.1117.7380
SEQUENCE:3
DTSTAMP:20260420T031736Z
URL:https://business.stgeorgechamber.com/events/details/starry-nights-gala-annual-community-awards-and-installation-banquet-01-30-2016-7380
END:VEVENT

END:VCALENDAR
