BEGIN:VCALENDAR
VERSION:2.0
PRODID:-//ChamberMaster//Event Calendar 2.0//EN
METHOD:PUBLISH
X-PUBLISHED-TTL:P3D
REFRESH-INTERVAL:P3D
CALSCALE:GREGORIAN
BEGIN:VEVENT
DTSTART:20140202T013000Z
DTEND:20140202T040000Z
X-MICROSOFT-CDO-ALLDAYEVENT:FALSE
SUMMARY:"Starry Nights Gala" Annual Awards and Installation Banquet
DESCRIPTION:Sponsored in part by Security Service Federal Credit Union\, the 2013 Annual Recognition Awards have been profiled to emphasize the unique mission of the St. George Area Chamber of Commerce and its advocacy of strengthening the role of businesses in our community. Help us celebrate the achievements of those individuals and/or businesses that have made an impact in one of the following categories: \n\n\n\nExecutive of the Year--Tracey Welsh\, Red Mountain Resort\n\nEntrepreneur of the Year--Russ Brown\, Patriot Home Mortgage\n\nStartup Business of the Year-Swig\n\nCommunity Business Partnership--Dixie Power\n\nCommunity Service Volunteer--Louise Zeenati\n\nBusiness Integrity--Ted Spilsbury\, Spilsbury Mortuary\n\nLifetime Achievement--Sidney Atkin
X-ALT-DESC;FMTTYPE=text/html:<span style="font-family:arial\;"><span style="font-size: 14px\;">Sponsored in part by Security Service Federal Credit Union\, the 2013 Annual Recognition Awards have been profiled to emphasize the unique mission of the St. George Area Chamber of Commerce and its advocacy of strengthening the role of businesses in our community. Help us celebrate the achievements of those individuals and/or businesses that have made an impact in one of the following categories:&nbsp\;<br />\n<br />\n<strong>Executive of the Year--Tracey Welsh\, Red Mountain Resort</strong><br />\n<strong>Entrepreneur of the Year--Russ Brown\, Patriot Home Mortgage</strong><br />\n<strong>Startup Business of the Year-Swig</strong><br />\n<strong>Community Business Partnership--Dixie Power</strong><br />\n<strong>Community Service Volunteer--Louise Zeenati</strong><br />\n<strong>Business Integrity--Ted Spilsbury\, Spilsbury Mortuary</strong><br />\n<strong>Lifetime Achievement--Sidney Atkin</strong></span></span><br />\n
LOCATION:City of St. George Airport Hangar Ridge Top Complex
UID:e.1117.4989
SEQUENCE:3
DTSTAMP:20260421T154602Z
URL:https://business.stgeorgechamber.com/events/details/starry-nights-gala-annual-awards-and-installation-banquet-02-01-2014-4989
END:VEVENT

END:VCALENDAR
