BEGIN:VCALENDAR
VERSION:2.0
PRODID:-//ChamberMaster//Event Calendar 2.0//EN
METHOD:PUBLISH
X-PUBLISHED-TTL:P3D
REFRESH-INTERVAL:P3D
CALSCALE:GREGORIAN
BEGIN:VEVENT
DTSTART:20150711T030000Z
DTEND:20150711T050000Z
X-MICROSOFT-CDO-ALLDAYEVENT:FALSE
SUMMARY:Star Party at the Silver Reef Museum
DESCRIPTION:The Silver Reef Museum and the St. George Astronomy Group are working together to host a Star Party at the Museum\, and all are welcome! We will be having a brief presentation in the Cosmopolitan building at 9pm on telescopes and the universe\, followed by a viewing of the night sky. The party will last approximately two hours\, and we should be able to see Jupiter\, Venus\, Saturn\, double stars\, and various constellations\, among other things. Donations are appreciated\, as they make these special programs possible.
X-ALT-DESC;FMTTYPE=text/html:The Silver Reef Museum and the St. George Astronomy Group are working together to host a Star Party at the Museum\, and all are welcome! We will be having a brief presentation in the Cosmopolitan building at 9pm on telescopes and the universe\, followed by a viewing of the night sky. The party will last approximately two hours\, and we should be able to see Jupiter\, Venus\, Saturn\, double stars\, and various constellations\, among other things. Donations are appreciated\, as they make these special programs possible.
LOCATION:Silver Reef Museum 1903 Wells Fargo Road Silver Reef\, UT 84746
UID:e.1117.6958
SEQUENCE:3
DTSTAMP:20260420T121400Z
URL:https://business.stgeorgechamber.com/events/details/star-party-at-the-silver-reef-museum-07-10-2015-6958
END:VEVENT

END:VCALENDAR
