BEGIN:VCALENDAR
VERSION:2.0
PRODID:-//ChamberMaster//Event Calendar 2.0//EN
METHOD:PUBLISH
X-PUBLISHED-TTL:P3D
REFRESH-INTERVAL:P3D
CALSCALE:GREGORIAN
BEGIN:VEVENT
DTSTART:20151017T140000Z
DTEND:20151017T220000Z
X-MICROSOFT-CDO-ALLDAYEVENT:FALSE
SUMMARY:Stand Down
DESCRIPTION:The Stand Down will link and provide multiple Veteran services and program information at one convenient location. This event will connect homeless and Veterans at risk of being homeless with information and services including: medical physicals\, dental checks\, legal clinic\, VA services eligibility for: healthcare enrollment\, pension & disability claim assistance\, Veteran CarePaks (hygiene kits\, blankets\, warm clothes\, goodies\, and more)\; education and employment opportunities\, free haircuts\, mental health services education\, substance abuse services education\, social and family services\, women Veterans information\, and more. Veterans should consider if they are experiencing legal issues\, or living paycheck to paycheck that may contribute to being at risk of being homeless. Transportation is available and lunch will be provided.
X-ALT-DESC;FMTTYPE=text/html:<span style="font-size: 8pt\; font-family: Verdana\, sans-serif\;"><span style="font-size:14px\;"><span style="font-family:arial\;">The Stand Down will link and provide multiple Veteran services and program information at one convenient location. This event will connect homeless and Veterans at risk of being homeless with information and services including: medical physicals\, dental checks\, legal clinic\, VA services eligibility for: healthcare enrollment\, pension &amp\; disability claim assistance\, Veteran CarePaks (hygiene kits\, blankets\, warm clothes\, goodies\, and more)\; education and employment opportunities\, free haircuts\, mental health services education\, substance abuse services education\, social and family services\, women Veterans information\, and more. Veterans should consider if they are experiencing legal issues\, or living paycheck to paycheck that may contribute to being at risk of being homeless. Transportation is available and lunch will be provided.</span></span><br />\n<!--[endif]--></span>
LOCATION:Switchpoint Community Resource Center 849 N. 1300 W. St. George
UID:e.1117.7256
SEQUENCE:3
DTSTAMP:20260420T064858Z
URL:https://business.stgeorgechamber.com/events/details/stand-down-10-17-2015-7256
END:VEVENT

END:VCALENDAR
