BEGIN:VCALENDAR
VERSION:2.0
PRODID:-//ChamberMaster//Event Calendar 2.0//EN
METHOD:PUBLISH
X-PUBLISHED-TTL:P3D
REFRESH-INTERVAL:P3D
CALSCALE:GREGORIAN
BEGIN:VEVENT
DTSTART;VALUE=DATE:20160128
DTEND;VALUE=DATE:20160131
TRANSP:TRANSPARENT
X-MICROSOFT-CDO-ALLDAYEVENT:TRUE
SUMMARY:St. George Winter Bird Festival
DESCRIPTION:Southwest Utah habitats can attract over 375 species of birds during the year. The habitats range from desert\, forest\, and riparian. During the St. George winter months many waterfowl migrate through and stop at our lakes and reservoirs. Raptors especially\, find this region an ideal location for the cold months. Whether you are a beginner or longtime birder\, you will find many attendees that are eager to share their experiences and enthusiasm for birding.\n\nJoin the Red Cliffs Audubon for bird walks\, field trips\, educational speakers\, keynote speaker and banquet\, silent auction and children's activities!
X-ALT-DESC;FMTTYPE=text/html:Southwest Utah habitats can attract over 375 species of birds during the year. The habitats range from desert\, forest\, and riparian. During the St. George winter months many waterfowl migrate through and stop at our lakes and reservoirs. Raptors especially\, find this region an ideal location for the cold months. Whether you are a beginner or longtime birder\, you will find many attendees that are eager to share their experiences and enthusiasm for birding.<br />\nJoin the Red Cliffs Audubon for bird walks\, field trips\, educational speakers\, keynote speaker and banquet\, silent auction and children&#39\;s activities!
LOCATION:Tonaquint Park & Nature Center 1851 South Dixie Drive
UID:e.1117.7392
SEQUENCE:3
DTSTAMP:20260420T031656Z
URL:https://business.stgeorgechamber.com/events/details/st-george-winter-bird-festival-01-28-2016-7392
END:VEVENT

END:VCALENDAR
