BEGIN:VCALENDAR
VERSION:2.0
PRODID:-//ChamberMaster//Event Calendar 2.0//EN
METHOD:PUBLISH
X-PUBLISHED-TTL:P3D
REFRESH-INTERVAL:P3D
CALSCALE:GREGORIAN
BEGIN:VEVENT
DTSTART:20150607T000000Z
DTEND:20150607T030000Z
X-MICROSOFT-CDO-ALLDAYEVENT:FALSE
SUMMARY:St George Ukulele Festival
DESCRIPTION:Join us June 6th for the 2nd annual Ukulele Festival at the DiFiore Center in St George\, Utah. Great family event. Live music featuring the Naked Waiters\, Thomas Anderson and the Runthrough Band. Ukulele Jam Sessions\, Waffles.
X-ALT-DESC;FMTTYPE=text/html:Join us June 6th for the 2nd annual Ukulele Festival at the DiFiore Center in St George\, Utah. Great family event. Live music featuring the Naked Waiters\, Thomas Anderson and the Runthrough Band. Ukulele Jam Sessions\, Waffles.
LOCATION:The DiFiore Center
UID:e.1117.6438
SEQUENCE:3
DTSTAMP:20260420T133457Z
URL:https://business.stgeorgechamber.com/events/details/st-george-ukulele-festival-06-06-2015-6438
END:VEVENT

END:VCALENDAR
