BEGIN:VCALENDAR
VERSION:2.0
PRODID:-//ChamberMaster//Event Calendar 2.0//EN
METHOD:PUBLISH
X-PUBLISHED-TTL:P3D
REFRESH-INTERVAL:P3D
CALSCALE:GREGORIAN
BEGIN:VEVENT
DTSTART:20140517T000000Z
DTEND:20140517T023000Z
X-MICROSOFT-CDO-ALLDAYEVENT:FALSE
SUMMARY:St George Ukulele Festival
DESCRIPTION:The DiFiore Center and The Music Store are proud to sponsor the St George Ukulele Festival. Join us from 6:00-8:30pm May 16th at 307 North Main Street. The festival will have live music\, food\, prize drawings\, Hula lessons and Uke jam session. This is a free event and everyone is welcome. All proceeds go to benefit The DiFiore Center for Arts and Education.
X-ALT-DESC;FMTTYPE=text/html:The DiFiore Center and The Music Store are proud to sponsor the St George Ukulele Festival. Join us from 6:00-8:30pm May 16th at 307 North Main Street. The festival will have live music\, food\, prize drawings\, Hula lessons and Uke jam session. This is a free event and everyone is welcome. All proceeds go to benefit The DiFiore Center for Arts and Education.
LOCATION:The DiFiore Center
UID:e.1117.5217
SEQUENCE:3
DTSTAMP:20260421T112402Z
URL:https://business.stgeorgechamber.com/events/details/st-george-ukulele-festival-05-16-2014-5217
END:VEVENT

END:VCALENDAR
