BEGIN:VCALENDAR
VERSION:2.0
PRODID:-//ChamberMaster//Event Calendar 2.0//EN
METHOD:PUBLISH
X-PUBLISHED-TTL:P3D
REFRESH-INTERVAL:P3D
CALSCALE:GREGORIAN
BEGIN:VEVENT
DTSTART:20130426T180000Z
DTEND:20130427T010000Z
X-MICROSOFT-CDO-ALLDAYEVENT:FALSE
SUMMARY:St. George Spring Pet Super Adoption
DESCRIPTION:Hundreds of dogs\, cats\, puppies\, and kittens will be available for adoption from local shelters and rescue groups in the St. George area!\n\n\n\nWhat is a Pet Super Adoption? It's a cooperative effort in which multiple animal groups get together in a fun\, festival-like atmosphere to adopt out hundreds of animals during a limited period of time. Additionally\, it's a fun\, positive way for the general public to see adoptable animals in a unique setting.
X-ALT-DESC;FMTTYPE=text/html:<span itemprop="description">Hundreds of dogs\, cats\, puppies\, and kittens will be available for adoption from local shelters and rescue groups in the St. George area!<br />\n<br />\nWhat is a Pet Super Adoption? It&#39\;s a cooperative effort in which multiple animal groups get together in a fun\, festival-like atmosphere to adopt out hundreds of animals during a limited period of time. Additionally\, it&#39\;s a fun\, positive way for the general public to see adoptable animals in a unique setting.</span>
LOCATION:PetSmart 15 South River Road\, St. George\, UT 84790
UID:e.1117.2937
SEQUENCE:3
DTSTAMP:20260422T055732Z
URL:https://business.stgeorgechamber.com/events/details/st-george-spring-pet-super-adoption-04-26-2013-2937
END:VEVENT

END:VCALENDAR
