BEGIN:VCALENDAR
VERSION:2.0
PRODID:-//ChamberMaster//Event Calendar 2.0//EN
METHOD:PUBLISH
X-PUBLISHED-TTL:P3D
REFRESH-INTERVAL:P3D
CALSCALE:GREGORIAN
BEGIN:VEVENT
DTSTART:20140928T013000Z
DTEND:20140928T030000Z
X-MICROSOFT-CDO-ALLDAYEVENT:FALSE
SUMMARY:St. George Musical Theater ''The Sound of Music''
DESCRIPTION:
X-ALT-DESC;FMTTYPE=text/html:
LOCATION:
UID:e.1117.6077
SEQUENCE:3
DTSTAMP:20260421T043841Z
URL:https://business.stgeorgechamber.com/events/details/st-george-musical-theater-the-sound-of-music-09-27-2014-6077
END:VEVENT

END:VCALENDAR
