BEGIN:VCALENDAR
VERSION:2.0
PRODID:-//ChamberMaster//Event Calendar 2.0//EN
METHOD:PUBLISH
X-PUBLISHED-TTL:P3D
REFRESH-INTERVAL:P3D
CALSCALE:GREGORIAN
BEGIN:VEVENT
DTSTART:20160101T023000Z
DTEND:20160101T060000Z
X-MICROSOFT-CDO-ALLDAYEVENT:FALSE
SUMMARY:St. George Musical Theater New Year's Eve Gala
DESCRIPTION:Announcing SGMT's New Year's Eve Gala featuring Tony winner\, Grammy nominee Lisa Hopkins Seegmiller in a unique\, intimate night of extraordinary music..and delicious dessert! This is SGMT's only fundraising event and is sure to sell out quickly due to limited seating! (And stay around for our Midnight Karaoke after-party!) Please join us for a night to remember! Semi-formal attire is optional but always appreciated!
X-ALT-DESC;FMTTYPE=text/html:<p><span style="color:#000000\;"><span style="font-size:14px\;"><span style="font-family:arial\;">Announcing SGMT&#39\;s New Year&#39\;s Eve Gala featuring Tony winner\, Grammy nominee&nbsp\;Lisa Hopkins Seegmiller in a unique\, intimate night of extraordinary music..and delicious dessert! This is SGMT&#39\;s only fundraising event and is sure to sell out quickly due to limited seating! (And stay around for our Midnight Karaoke after-party!) Please join us for a night to remember! Semi-formal attire is optional but always appreciated!&nbsp\;</span></span></span></p>\n
LOCATION:The Historic Opera House 212 N. Main Street St. George
UID:e.1117.7383
SEQUENCE:3
DTSTAMP:20260420T031826Z
URL:https://business.stgeorgechamber.com/events/details/st-george-musical-theater-new-year-s-eve-gala-12-31-2015-7383
END:VEVENT

END:VCALENDAR
