BEGIN:VCALENDAR
VERSION:2.0
PRODID:-//ChamberMaster//Event Calendar 2.0//EN
METHOD:PUBLISH
X-PUBLISHED-TTL:P3D
REFRESH-INTERVAL:P3D
CALSCALE:GREGORIAN
BEGIN:VEVENT
DTSTART;VALUE=DATE:20151003
DTEND;VALUE=DATE:20151004
TRANSP:TRANSPARENT
X-MICROSOFT-CDO-ALLDAYEVENT:TRUE
SUMMARY:St. George Marathon
DESCRIPTION:Rated by Runner's World as one of the four "Marathons to Build a Vacation Around" in the World. Included in Runner`s World 10 Most Scenic and Fastest Marathons and Top 20 Marathons in the USA. It begins in the majestic Pine Valley mountains and descends nearly 2600 feet through scenic southwest Utah\, to the beautiful Worthen Park. The St. George Marathon is a point-to-point race which is USA Track & Field Certified & Sanctioned. Runner`s World listed the St. George Marathon as the fastest fall marathon. A fun race indeed--and scenic.
X-ALT-DESC;FMTTYPE=text/html:Rated by Runner&#39\;s World as one of the four&nbsp\;<em>&quot\;Marathons to Build a Vacation Around&quot\;</em>&nbsp\;in the World. Included in Runner`s World 10 Most Scenic and Fastest Marathons and Top 20 Marathons in the USA. It begins in the majestic Pine Valley mountains and descends nearly 2600 feet through scenic southwest Utah\, to the beautiful Worthen Park. The St. George Marathon is a point-to-point race which is USA Track &amp\; Field Certified &amp\; Sanctioned. Runner`s World listed the St. George Marathon as the fastest fall marathon. A fun race indeed--and scenic.
LOCATION:Finish line is at Vernon Worthen Park
UID:e.1117.7098
SEQUENCE:3
DTSTAMP:20260420T064822Z
URL:https://business.stgeorgechamber.com/events/details/st-george-marathon-10-03-2015-7098
END:VEVENT

END:VCALENDAR
