BEGIN:VCALENDAR
VERSION:2.0
PRODID:-//ChamberMaster//Event Calendar 2.0//EN
METHOD:PUBLISH
X-PUBLISHED-TTL:P3D
REFRESH-INTERVAL:P3D
CALSCALE:GREGORIAN
BEGIN:VEVENT
DTSTART:20210131T020000Z
DTEND:20210131T033000Z
X-MICROSOFT-CDO-ALLDAYEVENT:FALSE
SUMMARY:St. George Comedy Showcase!
DESCRIPTION:Calling all St. George and Greater Zion: We're hosting a competition to find the funniest locals to perform at Electric Comedy Night! Clean Comedy. 3 Min Sets. Winner gets $100! Sign-up electriccomedynight@gmail.com
X-ALT-DESC;FMTTYPE=text/html:Calling all St. George and Greater Zion: We&#39\;re hosting a competition to find the funniest locals to perform at Electric Comedy Night! Clean Comedy. 3 Min Sets. Winner gets $100! Sign-up electriccomedynight@gmail.com
LOCATION:The Electric Theater 68 E. Tabernacle St. St. George\, UT
UID:e.1117.15830
SEQUENCE:3
DTSTAMP:20260421T082755Z
URL:https://business.stgeorgechamber.com/events/details/st-george-comedy-showcase-15830
END:VEVENT

END:VCALENDAR
