BEGIN:VCALENDAR
VERSION:2.0
PRODID:-//ChamberMaster//Event Calendar 2.0//EN
METHOD:PUBLISH
X-PUBLISHED-TTL:P3D
REFRESH-INTERVAL:P3D
CALSCALE:GREGORIAN
BEGIN:VEVENT
DTSTART:20131030T180000Z
DTEND:20131030T193000Z
X-MICROSOFT-CDO-ALLDAYEVENT:FALSE
SUMMARY:St. George City Mayoral Debate
DESCRIPTION:Mayor Candidates from St. George will join the Chamber today in the last of our candidate forums. Learn why they're running for political office and what they'd like to see changed in our city. Come be informed!
X-ALT-DESC;FMTTYPE=text/html:<p>\n	<span style="font-family: arial\;"><span style="font-size: 16px\;"><span class="messageBody translationEligibleUserMessage" data-ft="{">Mayor Candidates from St. George will join the Chamber today in the last of our candidate forums. Learn why they&#39\;re running for political office and what they&#39\;d like to see changed in our city. Come be informed!</span></span></span></p>\n
LOCATION:Dixie Center 1835 Convention Center Drive St. George\, Utah
UID:e.1117.4301
SEQUENCE:3
DTSTAMP:20260421T200347Z
URL:https://business.stgeorgechamber.com/events/details/st-george-city-mayoral-debate-10-30-2013-4301
END:VEVENT

END:VCALENDAR
