BEGIN:VCALENDAR
VERSION:2.0
PRODID:-//ChamberMaster//Event Calendar 2.0//EN
METHOD:PUBLISH
X-PUBLISHED-TTL:P3D
REFRESH-INTERVAL:P3D
CALSCALE:GREGORIAN
BEGIN:VEVENT
DTSTART:20231101T233000Z
DTEND:20231102T020000Z
X-MICROSOFT-CDO-ALLDAYEVENT:FALSE
SUMMARY:St. George City Council Debate - Washington County Debate Coalition
DESCRIPTION:The St. George Area Chamber of Commerce\, in partnership with the Washington County Debate Coalition\, is proud to present the 2023 St. George City Council Debate. This debate will feature the five remaining candidates running for three open St. George City Council seats. Chuck Goode will moderate the event. \n\n\n\nAs a founding member of the Washington County Debate Coalition\, the Chamber is proud to join with our partners to provide a platform to raise voter awareness on candidates solutions for critical issues affecting the community. We encourage our members and the citizens of St. George to attend and hear from these candidates before the November 21st election.
X-ALT-DESC;FMTTYPE=text/html:The St. George Area Chamber of Commerce\, in partnership with the Washington County Debate Coalition\, is proud to present the 2023 St. George City Council Debate. This debate will feature the five remaining candidates running for three open St. George City Council seats. Chuck Goode will moderate the event.&nbsp\;<br />\n<br />\nAs a founding member of the Washington County Debate Coalition\, the Chamber is proud to join with our partners to provide a platform to raise voter awareness on candidates solutions for critical issues affecting the community. We encourage our members and the citizens of St. George to attend and hear from these candidates before the November 21st election.&nbsp\;
LOCATION:Main Stage Dolores Eccles Fine Arts Center Utah Tech University S 700 E St. George\, UT 84770
UID:e.1117.17237
SEQUENCE:3
DTSTAMP:20260421T083623Z
URL:https://business.stgeorgechamber.com/events/details/st-george-city-council-debate-washington-county-debate-coalition-17237
END:VEVENT

END:VCALENDAR
