BEGIN:VCALENDAR
VERSION:2.0
PRODID:-//ChamberMaster//Event Calendar 2.0//EN
METHOD:PUBLISH
X-PUBLISHED-TTL:P3D
REFRESH-INTERVAL:P3D
CALSCALE:GREGORIAN
BEGIN:VEVENT
DTSTART:20151021T180000Z
DTEND:20151021T193000Z
X-MICROSOFT-CDO-ALLDAYEVENT:FALSE
SUMMARY:St. George City Council Candidate Debate
DESCRIPTION:City Council Candidates from St. George will join the Chamber today in a candidate forum. Learn why they're running for political office and what they'd like to see changed in our city. Come be informed!\n\n\n\nCandidates:\n\nBette Arial\n\nEd Baca\n\nCraig Hammer\n\nJimmie Hughes\n\nGregg McArthur\n\nBryan Thiriot
X-ALT-DESC;FMTTYPE=text/html:<p><span style="color:#000000\;"><span style="font-family: arial\;"><span style="font-size: 16px\;"><span class="messageBody translationEligibleUserMessage" data-ft="{">City Council Candidates from St. George will join the Chamber today in a candidate forum. Learn why they&#39\;re running for political office and what they&#39\;d like to see changed in our city. Come be informed!<br />\n<br />\nCandidates:</span></span></span><br />\n<span style="font-size: 16px\; font-family: arial\;">Bette Arial<br />\nEd Baca<br />\nCraig Hammer<br />\nJimmie Hughes<br />\nGregg McArthur<br />\nBryan Thiriot</span></span></p>\n
LOCATION:Dixie State University Gardner Center Ballroom 225 S. 700 E. St. George\, Utah
UID:e.1117.7109
SEQUENCE:3
DTSTAMP:20260420T065137Z
URL:https://business.stgeorgechamber.com/events/details/st-george-city-council-candidate-debate-10-21-2015-7109
END:VEVENT

END:VCALENDAR
