BEGIN:VCALENDAR
VERSION:2.0
PRODID:-//ChamberMaster//Event Calendar 2.0//EN
METHOD:PUBLISH
X-PUBLISHED-TTL:P3D
REFRESH-INTERVAL:P3D
CALSCALE:GREGORIAN
BEGIN:VEVENT
DTSTART:20131016T180000Z
DTEND:20131016T193000Z
X-MICROSOFT-CDO-ALLDAYEVENT:FALSE
SUMMARY:St. George City Council Candidate Debate
DESCRIPTION:City Council Candidates from St. George will join the Chamber today in the last of our candidate forums. Learn why they're running for political office and what they'd like to see changed in our city. Come be informed!\n\n	\n\n	Candidates:\n\n	Ed Baca\n\n	Joe Bowcutt\n\n	Tara Dunn\n\n	Michelle Randall
X-ALT-DESC;FMTTYPE=text/html:<p>\n	<span style="font-family: arial\;"><span style="font-size: 16px\;"><span class="messageBody translationEligibleUserMessage" data-ft="{">City Council Candidates from St. George will join the Chamber today in the last of our candidate forums. Learn why they&#39\;re running for political office and what they&#39\;d like to see changed in our city. Come be informed!<br />\n	<br />\n	Candidates:</span></span></span><br />\n	<span style="font-size: 16px\; font-family: arial\;">Ed Baca</span><br />\n	<span style="font-family: arial\;"><span style="font-size: 16px\;"><span class="messageBody translationEligibleUserMessage" data-ft="{">Joe Bowcutt<br />\n	Tara Dunn<br />\n	Michelle Randall</span></span></span></p>\n
LOCATION:Dixie State University Gardner Center Ballroom 225 S. 700 E. St. George\, Utah
UID:e.1117.4299
SEQUENCE:3
DTSTAMP:20260421T200400Z
URL:https://business.stgeorgechamber.com/events/details/st-george-city-council-candidate-debate-10-16-2013-4299
END:VEVENT

END:VCALENDAR
