BEGIN:VCALENDAR
VERSION:2.0
PRODID:-//ChamberMaster//Event Calendar 2.0//EN
METHOD:PUBLISH
X-PUBLISHED-TTL:P3D
REFRESH-INTERVAL:P3D
CALSCALE:GREGORIAN
BEGIN:VEVENT
DTSTART:20151122T023000Z
DTEND:20151122T033000Z
X-MICROSOFT-CDO-ALLDAYEVENT:FALSE
SUMMARY:St. George Chamber Singers Concert
DESCRIPTION:You're invited to the debut of St. George's first chamber choir\, November 21 at 7:30 PM at the Eccles Fine Arts Center in St. George Utah. The St. George Chamber Singers is a new group composed of 25 of Southern Utah's finest voices. We will feature the works of Debussy\, Whitacre\, Lauridsen\, Brahms\, and Argento. We are directed by Professor Emeritus Dr. Paul Wiens and accompanied by Dr. Christopher Giles. Admission is free.
X-ALT-DESC;FMTTYPE=text/html:You&#39\;re invited to the debut of St. George&#39\;s first chamber choir\, November 21 at 7:30 PM at the Eccles Fine Arts Center in St. George Utah. The St. George Chamber Singers is a new group composed of 25 of Southern Utah&#39\;s finest voices. We will feature the works of Debussy\, Whitacre\, Lauridsen\, Brahms\, and Argento. We are directed by Professor Emeritus Dr. Paul Wiens and accompanied by Dr. Christopher Giles. Admission is free.
LOCATION:Eccles Fine Arts Center
UID:e.1117.7286
SEQUENCE:3
DTSTAMP:20260420T051310Z
URL:https://business.stgeorgechamber.com/events/details/st-george-chamber-singers-concert-11-21-2015-7286
END:VEVENT

END:VCALENDAR
