BEGIN:VCALENDAR
VERSION:2.0
PRODID:-//ChamberMaster//Event Calendar 2.0//EN
METHOD:PUBLISH
X-PUBLISHED-TTL:P3D
REFRESH-INTERVAL:P3D
CALSCALE:GREGORIAN
BEGIN:VEVENT
DTSTART:20151110T220000Z
DTEND:20151111T000000Z
X-MICROSOFT-CDO-ALLDAYEVENT:FALSE
SUMMARY:St. George Chamber Membership Orientation and Training
DESCRIPTION:Please join us for a time of training\, fun and refreshments. Do you know what your membership dollars are paying for? \n\n\n\nGold Card Providers: have you gone to the Chamber Gold Card Web-page and clicked on your business? \n\n\n\nAre you portraying your business in the fashion you would like your business to be portrayed?\n\n\n\nNew and Existing Members: Do you know about the tools we offer to promote your business? Did you know you have a Chamber Webpage? Have you looked at it to see if your business appears alive and thriving?  \n\n\n\nIf the answer to any of these questions is "No" . This training session is for you!\n\n\n\nBring your business cards to share. \n\n\n\nLimited seating to 50.
X-ALT-DESC;FMTTYPE=text/html:<span style="font-size:14px\;"><span style="font-family:arial\;">Please join us for a time of training\, fun and refreshments. Do you know what your membership dollars&nbsp\;are paying for?&nbsp\;<br />\n<br />\nGold Card Providers: have you gone to the Chamber Gold Card Web-page and clicked on your business?&nbsp\;<br />\n<br />\nAre you portraying your business in the fashion you would like your business to be portrayed?<br />\n<br />\nNew and Existing Members: Do you know about the tools we offer to promote your business? Did you&nbsp\;know you have a Chamber Webpage? Have you looked at it to see if your business appears alive and&nbsp\;thriving? &nbsp\;<br />\n<br />\nIf the answer to any of these questions is &ldquo\;No&rdquo\;&hellip\;. This training session is for you!<br />\n<br />\nBring your business cards to share.&nbsp\;<br />\n<br />\nLimited seating to 50.</span></span>
LOCATION:Washington County Water Conservancy 533 E Waterworks Drive St. George UT 84770
UID:e.1117.7110
SEQUENCE:3
DTSTAMP:20260420T051107Z
URL:https://business.stgeorgechamber.com/events/details/st-george-chamber-membership-orientation-and-training-11-10-2015-7110
END:VEVENT

END:VCALENDAR
