BEGIN:VCALENDAR
VERSION:2.0
PRODID:-//ChamberMaster//Event Calendar 2.0//EN
METHOD:PUBLISH
X-PUBLISHED-TTL:P3D
REFRESH-INTERVAL:P3D
CALSCALE:GREGORIAN
BEGIN:VEVENT
DTSTART:20141024T140000Z
DTEND:20141024T230000Z
X-MICROSOFT-CDO-ALLDAYEVENT:FALSE
SUMMARY:St. George Book Festival - The Writer's Journey: One-Day Workshop
DESCRIPTION:Come enjoy this one-day conference designed to give authors and aspiring authors the opportunity to network and learn more about writing and the publishing industry! Time: 8:00am to 5:00pm - There are two breakout sessions each hour. Click here to see workshops\, speakers\, full program details and SIGN-UP! http://www.https://www.facebook.com/St.GeorgeBookfestival
X-ALT-DESC;FMTTYPE=text/html:Come enjoy this one-day conference designed to give authors and aspiring authors the opportunity to network and learn more about writing and the publishing industry! Time: 8:00am to 5:00pm - There are two breakout sessions each hour. Click here to see workshops\, speakers\, full program details and SIGN-UP! http://www.https://www.facebook.com/St.GeorgeBookfestival
LOCATION:Dixie State University Holland Bldg. 4th Floor 225 South 700 East St. George\, UT
UID:e.1117.6143
SEQUENCE:3
DTSTAMP:20260421T030251Z
URL:https://business.stgeorgechamber.com/events/details/st-george-book-festival-the-writer-s-journey-one-day-workshop-10-24-2014-6143
END:VEVENT

END:VCALENDAR
